BEGIN:VCALENDAR
VERSION:2.0
PRODID:-//jEvents 2.0 for Joomla//EN
CALSCALE:GREGORIAN
METHOD:PUBLISH
BEGIN:VEVENT
UID:bee0c12280fb926e29c20944a4d17751
CATEGORIES:Day Trip
CREATED:20251009T054241
SUMMARY:Maitland Ridge circuit
URL;VALUE=URI:https://live.nelsontrampingclub.org.nz/events/1565/maitland-ridge-circuit?t
 mpl=component
DESCRIPTION:Mt Richmond Forest Park - a 23km circuit up the Red Hills Track to the hut,
  across Maitland Ridge, down Beebys Knob 4WD track and back to the carpark 
 via Wots Up Doc MTB track. A solid 7 to 8 hour day out, with a couple of sm
 all creek crossings. Total of around 700m climb. \n \n This event was impor
 ted from: https://live.nelsontrampingclub.org.nz/events/1565/maitland-ridge
 -circuit?tmpl=component
X-ALT-DESC;FMTTYPE=text/html:<p>Mt Richmond Forest Park - a 23km circuit up the Red Hills Track to the h
 ut, across Maitland Ridge, down Beebys Knob 4WD track and back to the carpa
 rk via Wots Up Doc MTB track. A solid 7 to 8 hour day out, with a couple of
  small creek crossings. Total of around 700m climb.&nbsp;</p><p>&nbsp;</p> 
 <a href="https://live.nelsontrampingclub.org.nz/events/1565/maitland-ridge-
 circuit?tmpl=component">This event was imported from: https://live.nelsontr
 ampingclub.org.nz/events/1565/maitland-ridge-circuit?tmpl=component</a>DTSTAMP:20260420T091424
DTSTART;VALUE=DATE:20251122
DTEND;VALUE=DATE:20251123
SEQUENCE:0
TRANSP:OPAQUE
END:VEVENT
END:VCALENDAR