BEGIN:VCALENDAR
VERSION:2.0
PRODID:-//jEvents 2.0 for Joomla//EN
CALSCALE:GREGORIAN
METHOD:PUBLISH
BEGIN:VEVENT
UID:0730027b3ac54e01a86cc839ca5acb94
CATEGORIES:Extended Trip
CREATED:20250304T102159
SUMMARY:Cobb Camping
URL;VALUE=URI:https://live.nelsontrampingclub.org.nz/events/1505/cobb-camping?tmpl=compon
 ent
DESCRIPTION:Camping in the Cobb before it gets too cold and dark :)\nOn Friday lunchtim
 e (Another car could leave after work if we have enough people), drive to t
 he Sylvester carpark. Walk up the forestry road (could be done in the dark)
  and stay in Sylvester Hut for the night. Around 500m up, 6km, 2 - 2.5 hrs.
  Hut $25 or hut pass.\nSaturday, at leisurely pace, walk past Iron Lake up 
 to the ridge, climb Iron Hill (optional sidetrip), then follow the undulati
 ng ridge towards Mt Benson. Great vistas. About 300m altitude gain. Above L
 ake Lilly, drop down past the lake to Diamond. Time to explore, relax, swim
 . We might camp at Lake Diamond, but most likely will carry on to Lake Lock
 ett to camp. Depending on time and weather. All day off track. The ridge is
  partly exposed.\nSunday, follow the trap line close to the river on to the
  quarry and then walk back to the carpark, about 4 hrs. I have not done thi
 s part, but it is marked and i have the GPX for it. We could do a walk en r
 oute home, e.g. the Takaka Hill walk, 2.5 hrs.\n\n This event was imported 
 from: https://live.nelsontrampingclub.org.nz/events/1505/cobb-camping?tmpl=
 component
X-ALT-DESC;FMTTYPE=text/html:<p>Camping in the Cobb before it gets too cold and dark :)</p><p>On Friday 
 lunchtime (Another car could leave after work if we have enough people), dr
 ive to the Sylvester carpark. Walk up the forestry road (could be done in t
 he dark) and stay in Sylvester Hut for the night. Around 500m up, 6km, 2 - 
 2.5 hrs. Hut $25 or hut pass.</p><p>Saturday, at leisurely pace, walk past 
 Iron Lake up to the ridge, climb Iron Hill (optional sidetrip), then follow
  the undulating ridge towards Mt Benson. Great vistas. About 300m altitude 
 gain. Above Lake Lilly, drop down past the lake to Diamond. Time to explore
 , relax, swim. We might camp at Lake Diamond, but most likely will carry on
  to Lake Lockett to camp. Depending on time and weather. All day off track.
  The ridge is partly exposed.</p><p>Sunday, follow the trap line close to t
 he river on to the quarry and then walk back to the carpark, about 4 hrs. I
  have not done this part, but it is marked and i have the GPX for it. We co
 uld do a walk en route home, e.g. the Takaka Hill walk, 2.5 hrs.</p><p></p>
  <a href="https://live.nelsontrampingclub.org.nz/events/1505/cobb-camping?t
 mpl=component">This event was imported from: https://live.nelsontrampingclu
 b.org.nz/events/1505/cobb-camping?tmpl=component</a>DTSTAMP:20260420T112128
DTSTART;VALUE=DATE:20250328
DTEND;VALUE=DATE:20250331
SEQUENCE:0
TRANSP:OPAQUE
END:VEVENT
END:VCALENDAR