BEGIN:VCALENDAR
VERSION:2.0
PRODID:-//jEvents 2.0 for Joomla//EN
CALSCALE:GREGORIAN
METHOD:PUBLISH
BEGIN:VEVENT
UID:b06f3fe6340cd6c3241a057ccb3a07eb
CATEGORIES:Day Trip
CREATED:20250304T041201
SUMMARY:Teetotal Flats - St Arnaud
URL;VALUE=URI:https://live.nelsontrampingclub.org.nz/events/1503/teetotal-flats-st-arnaud
 ?tmpl=component
DESCRIPTION:Walk a medley of the MTB tracks on the Teetotal Flat area, starting the ska
 ting pond just south of the village\nApproximately 15 km.\n This event was 
 imported from: https://live.nelsontrampingclub.org.nz/events/1503/teetotal-
 flats-st-arnaud?tmpl=component
X-ALT-DESC;FMTTYPE=text/html:<p>Walk a medley of the MTB tracks on the Teetotal Flat area, starting the 
 skating pond just south of the village</p><p>Approximately 15 km.</p> <a hr
 ef="https://live.nelsontrampingclub.org.nz/events/1503/teetotal-flats-st-ar
 naud?tmpl=component">This event was imported from: https://live.nelsontramp
 ingclub.org.nz/events/1503/teetotal-flats-st-arnaud?tmpl=component</a>DTSTAMP:20260420T092654
DTSTART;VALUE=DATE:20250810
DTEND;VALUE=DATE:20250811
SEQUENCE:0
TRANSP:OPAQUE
END:VEVENT
END:VCALENDAR