BEGIN:VCALENDAR
VERSION:2.0
PRODID:-//jEvents 2.0 for Joomla//EN
CALSCALE:GREGORIAN
METHOD:PUBLISH
BEGIN:VEVENT
UID:21eb4602b313e5972614b884ff204c9c
CATEGORIES:Day Trip
CREATED:20250304T035352
SUMMARY:Devils Creek Hut - Wakamarina
URL;VALUE=URI:https://live.nelsontrampingclub.org.nz/events/1502/devils-creek-hut-wakamar
 ina?tmpl=component
DESCRIPTION:<p>Walk from Butchers Flat campsite at the end of the Wakamarina Rd for 7 k
 m to Devil Creeks Hut.</p><p>On the way we can detour on the Doom track to 
 visit the old gold workings and continue beyound Devils Creek hut to visit 
 the historic stone hut ruins.</p><p>Approximately 16 km.</p> <a href="https
 ://live.nelsontrampingclub.org.nz/events/1502/devils-creek-hut-wakamarina?t
 mpl=component">This event was imported from: https://live.nelsontrampingclu
 b.org.nz/events/1502/devils-creek-hut-wakamarina?tmpl=component</a>DTSTAMP:20260420T112127
DTSTART;VALUE=DATE:20250316
DTEND;VALUE=DATE:20250317
SEQUENCE:0
TRANSP:OPAQUE
END:VEVENT
END:VCALENDAR