BEGIN:VCALENDAR
VERSION:2.0
PRODID:-//jEvents 2.0 for Joomla//EN
CALSCALE:GREGORIAN
METHOD:PUBLISH
BEGIN:VEVENT
UID:e950395ffc8c268546e138514d952457
CATEGORIES:Extended Trip
CREATED:20250225T235310
SUMMARY:Southern Crossing, Tararuas
URL;VALUE=URI:https://live.nelsontrampingclub.org.nz/events/1500/southern-crossing,-tarar
 uas?tmpl=component
DESCRIPTION:Would anybody like to join me on the Southern Crossing in the Tararuas? 17t
 h to 21st March. My plan is to start in Otaki on Monday 17th, good forecast
  provided. It requires good fitness and navigation, 3 days minimum, but i'd
  allow 5 days. Then hitch back to Wellington from Kaitoke and ferry or fly 
 back to Nelson. If enough people, we could hire a transfer.\nContact me asa
 p if you are interested. I ll be in New Plymouth before, from 13-16th, and 
 partly out of range. 021 2520877.\n This event was imported from: https://l
 ive.nelsontrampingclub.org.nz/events/1500/southern-crossing,-tararuas?tmpl=
 component
X-ALT-DESC;FMTTYPE=text/html:<p>Would anybody like to join me on the Southern Crossing in the Tararuas?<
 strong> 17th to 21st March.</strong> My plan is to <strong>start in Otaki o
 n Monday 17th</strong>, good forecast provided. It requires good fitness an
 d navigation, 3 days minimum, but i'd allow 5 days. Then hitch back to Well
 ington from Kaitoke and ferry or fly back to Nelson. If enough people, we c
 ould hire a transfer.</p><p>Contact me asap if you are interested. I ll be 
 in New Plymouth before, from 13-16th, and partly out of range. 021 2520877.
 </p> <a href="https://live.nelsontrampingclub.org.nz/events/1500/southern-c
 rossing,-tararuas?tmpl=component">This event was imported from: https://liv
 e.nelsontrampingclub.org.nz/events/1500/southern-crossing,-tararuas?tmpl=co
 mponent</a>DTSTAMP:20260420T085301
DTSTART;VALUE=DATE:20250318
DTEND;VALUE=DATE:20250322
SEQUENCE:0
TRANSP:OPAQUE
END:VEVENT
END:VCALENDAR