BEGIN:VCALENDAR
VERSION:2.0
PRODID:-//jEvents 2.0 for Joomla//EN
CALSCALE:GREGORIAN
METHOD:PUBLISH
BEGIN:VEVENT
UID:b3b0b021523620b8044a6cfbd93b7da8
CATEGORIES:Club Night
CREATED:20250207T050020
SUMMARY:Club Night with Bruce Davies speaking on his extensive Antarctic and Greenland adventures
URL;VALUE=URI:https://live.nelsontrampingclub.org.nz/events/1496/club-night-with-bruce-da
 vies-speaking-on-his-extensive-antarctic-and-greenland-adventures?tmpl=comp
 onent
DESCRIPTION:A laconic and amusing speaker, Bruce Davies has an interesting excellent ta
 le to tell accompanied by his wondeful photos. Based in Nelson, he has had 
 an amazing career on the ice over many seasons, sometimes both hemispheres 
 in the same year.\nBruce (NZAC) is a veteran climber and explorer. He will 
 describe highlights of trips to Spitzbergen , Greenland and Antarctica. In 
 the 1970’s he spent two years in Antarctica with the British Antarctic Surv
 ey, on their field operations base, travelling extensively by dog team and 
 skidoo. In the early 80s he worked two seasons for Cambridge University in 
 Spitzbergen, skippering a small motorboat, taking geologists to areas of in
 terest around the coast. In 2005 he went to Greenland, firstly working at t
 he National Science Foundation’s science station at the very top of the ice
 cap, and then on the Traverse Team, hauling fuel and cargo 1,000 km from th
 e coast to the top of the icecap. After 18 trips to Greenland, covid halted
  his work there. In 2017 Bruce went south again to Scott Base, working thre
 e seasons on the Ross Ice Shelf Drill Project. Using skills learnt on the G
 reenland ice cap he helped set up the Scott Base Traverse Team, making the 
 first long distance traverse (1,200km), from Scott Base by Kiwis, since Hil
 lary’s 1958 expedition.\n\n This event was imported from: https://live.nels
 ontrampingclub.org.nz/events/1496/club-night-with-bruce-davies-speaking-on-
 his-extensive-antarctic-and-greenland-adventures?tmpl=component
X-ALT-DESC;FMTTYPE=text/html:<p>A laconic and amusing speaker, Bruce Davies has an interesting excellent
  tale to tell accompanied by his wondeful photos. Based in Nelson, he has h
 ad an amazing career on the ice over many seasons,&nbsp;sometimes both hemi
 spheres in the same year.</p><p>Bruce (NZAC) is a veteran climber and explo
 rer. He will describe highlights of trips to Spitzbergen , Greenland and An
 tarctica. In the 1970’s he spent two years in Antarctica with the British A
 ntarctic Survey, on their field operations base, travelling extensively by 
 dog team and skidoo. In the early 80s he worked two seasons for Cambridge U
 niversity in Spitzbergen, skippering a small motorboat, taking geologists t
 o areas of interest around the coast. In 2005 he went to Greenland, firstly
  working at the National Science Foundation’s science station at the very t
 op of the icecap, and then on the Traverse Team, hauling fuel and cargo 1,0
 00 km from the coast to the top of the icecap. After 18 trips to Greenland,
  covid halted his work there. In 2017 Bruce went south again to Scott Base,
  working three seasons on the Ross Ice Shelf Drill Project. Using skills le
 arnt on the Greenland ice cap he helped set up the Scott Base Traverse Team
 , making the first long distance traverse (1,200km), from Scott Base by Kiw
 is, since Hillary’s 1958 expedition.</p><p></p> <a href="https://live.nelso
 ntrampingclub.org.nz/events/1496/club-night-with-bruce-davies-speaking-on-h
 is-extensive-antarctic-and-greenland-adventures?tmpl=component">This event 
 was imported from: https://live.nelsontrampingclub.org.nz/events/1496/club-
 night-with-bruce-davies-speaking-on-his-extensive-antarctic-and-greenland-a
 dventures?tmpl=component</a>DTSTAMP:20260420T140615
DTSTART;VALUE=DATE:20250414
DTEND;VALUE=DATE:20250415
SEQUENCE:0
TRANSP:OPAQUE
END:VEVENT
END:VCALENDAR