BEGIN:VCALENDAR
VERSION:2.0
PRODID:-//jEvents 2.0 for Joomla//EN
CALSCALE:GREGORIAN
METHOD:PUBLISH
BEGIN:VEVENT
UID:0e168da3f1f803ab10e187dd49acba09
CATEGORIES:Club Night
CREATED:20250203T063230
SUMMARY:Club Night Talk by Andy Buchanan on climbing a panorama of peaks from Mt Peel, Sth Cant. to Tapuaenuku in the Nth
URL;VALUE=URI:https://live.nelsontrampingclub.org.nz/events/1495/club-night-talk-by-andy-
 buchanan-on-climbing-a-panorama-of-peaks-from-mt-peel,-sth-cant-to-tapuaenu
 ku-in-the-nth?tmpl=component
DESCRIPTION:Mountaineer and Adventurer Andy Buchanan will present "Climbing Everything 
 in Sight and Writing About it". This is a presentation about his book "Alpi
 ne Panoramic. View to a Climb" where he describes and illistrates with phot
 os, climing peaks between Mt Peel in S Canterbury to Tapuaenuku in the Nort
 h. \nBooks will be available to purchase - $50 cash or Internet banking.  \
 nCome along to the Tahunanui Community Hub at 55 Muratai Street.  Doors ope
 n at 7:30 for a cuppa, presentation to start at 8pm.  Gold coin donation fo
 r hall hire - thanks.  Visitors welcome. \n This event was imported from: h
 ttps://live.nelsontrampingclub.org.nz/events/1495/club-night-talk-by-andy-b
 uchanan-on-climbing-a-panorama-of-peaks-from-mt-peel,-sth-cant-to-tapuaenuk
 u-in-the-nth?tmpl=component
X-ALT-DESC;FMTTYPE=text/html:<p>Mountaineer and Adventurer Andy Buchanan will present "Climbing Everythi
 ng in Sight and Writing About it". This is a presentation about his book "A
 lpine Panoramic. View to a Climb" where he describes and illistrates with p
 hotos, climing peaks between Mt Peel in S Canterbury to Tapuaenuku in the N
 orth.&nbsp;</p><p>Books will be available to purchase - $50 cash or Interne
 t banking.&nbsp;&nbsp;</p><p>Come along to the Tahunanui Community Hub at 5
 5 Muratai Street.&nbsp; Doors open at 7:30 for a cuppa, presentation to sta
 rt at 8pm.&nbsp; Gold coin donation for hall hire - thanks.&nbsp; Visitors 
 welcome.&nbsp;</p> <a href="https://live.nelsontrampingclub.org.nz/events/1
 495/club-night-talk-by-andy-buchanan-on-climbing-a-panorama-of-peaks-from-m
 t-peel,-sth-cant-to-tapuaenuku-in-the-nth?tmpl=component">This event was im
 ported from: https://live.nelsontrampingclub.org.nz/events/1495/club-night-
 talk-by-andy-buchanan-on-climbing-a-panorama-of-peaks-from-mt-peel,-sth-can
 t-to-tapuaenuku-in-the-nth?tmpl=component</a>DTSTAMP:20260420T085132
DTSTART;VALUE=DATE:20250317
DTEND;VALUE=DATE:20250318
SEQUENCE:0
TRANSP:OPAQUE
END:VEVENT
END:VCALENDAR