BEGIN:VCALENDAR
VERSION:2.0
PRODID:-//jEvents 2.0 for Joomla//EN
CALSCALE:GREGORIAN
METHOD:PUBLISH
BEGIN:VEVENT
UID:f417b297480d5bccb900426337051b41
CATEGORIES:Extended Trip
CREATED:20250203T061902
SUMMARY:Cobb Lakes camping: Ruby, Diamond, Lockett
URL;VALUE=URI:https://live.nelsontrampingclub.org.nz/events/1494/cobb-lakes-camping-ruby,
 -diamond,-lockett?tmpl=component
DESCRIPTION:Very short notice replacement for Moss Pass, due to forecast.\nPlan\nTuesda
 y pm, tomorrow, leave Nelson 3.30/4pm. Stay Silvester Hut.\nWednesday walk 
 up mt iron and along the ridge, drop down to Ruby lake, camp for the night.
 \nThursday up the ridge behind the campsite to Mt Benson, follow the ridge 
 back toward Iron Lake, then drop down to Diamond lake, and on to camp at La
 ke Lockett.\nFriday, follow the trap line out, 3 to 4 hrs, drive home.\nWea
 ther looks OK till Friday.\nDisclaimer. I have not done this tramp. So ther
 e might be some navigation involved. Help welcome. Talked to people that ha
 ve done it, though :)\nPls contact me by phone, as the start is tomorrow, m
 aking use of the good weather.\nAstrid\n021 2520877\n This event was import
 ed from: https://live.nelsontrampingclub.org.nz/events/1494/cobb-lakes-camp
 ing-ruby,-diamond,-lockett?tmpl=component
X-ALT-DESC;FMTTYPE=text/html:<p>Very short notice replacement for Moss Pass, due to forecast.</p><p>Plan
 </p><p>Tuesday pm, tomorrow, leave Nelson 3.30/4pm. Stay Silvester Hut.</p>
 <p>Wednesday walk up mt iron and along the ridge, drop down to Ruby lake, c
 amp for the night.</p><p>Thursday up the ridge behind the campsite to Mt Be
 nson, follow the ridge back toward Iron Lake, then drop down to Diamond lak
 e, and on to camp at Lake Lockett.</p><p>Friday, follow the trap line out, 
 3 to 4 hrs, drive home.</p><p>Weather looks OK till Friday.</p><p>Disclaime
 r. I have not done this tramp. So there might be some navigation involved. 
 Help welcome. Talked to people that have done it, though :)</p><p>Pls conta
 ct me by phone, as the start is tomorrow, making use of the good weather.</
 p><p>Astrid</p><p>021 2520877</p> <a href="https://live.nelsontrampingclub.
 org.nz/events/1494/cobb-lakes-camping-ruby,-diamond,-lockett?tmpl=component
 ">This event was imported from: https://live.nelsontrampingclub.org.nz/even
 ts/1494/cobb-lakes-camping-ruby,-diamond,-lockett?tmpl=component</a>DTSTAMP:20260420T085206
DTSTART;VALUE=DATE:20250204
DTEND;VALUE=DATE:20250208
SEQUENCE:0
TRANSP:OPAQUE
END:VEVENT
END:VCALENDAR