BEGIN:VCALENDAR
VERSION:2.0
PRODID:-//jEvents 2.0 for Joomla//EN
CALSCALE:GREGORIAN
METHOD:PUBLISH
BEGIN:VEVENT
UID:590a03fd31f6039170794de2f6a5e9d7
CATEGORIES:Day Trip
CREATED:20241108T080134
SUMMARY:Mount Arthur
URL;VALUE=URI:https://live.nelsontrampingclub.org.nz/events/1480/mount-arthur?tmpl=compon
 ent
DESCRIPTION:<p>Climb from Flora car park</p> <a href="https://live.nelsontrampingclub.o
 rg.nz/events/1480/mount-arthur?tmpl=component">This event was imported from
 : https://live.nelsontrampingclub.org.nz/events/1480/mount-arthur?tmpl=comp
 onent</a>DTSTAMP:20260420T095808
DTSTART;VALUE=DATE:20241130
DTEND;VALUE=DATE:20241201
SEQUENCE:0
TRANSP:OPAQUE
END:VEVENT
END:VCALENDAR