BEGIN:VCALENDAR
VERSION:2.0
PRODID:-//jEvents 2.0 for Joomla//EN
CALSCALE:GREGORIAN
METHOD:PUBLISH
BEGIN:VEVENT
UID:e915d217309ddaed568f739837be9962
CATEGORIES:Overnight Trip
CREATED:20241010T103116
SUMMARY:Buckland Peaks
URL;VALUE=URI:https://live.nelsontrampingclub.org.nz/events/1474/buckland-peaks?tmpl=comp
 onent
DESCRIPTION:<p>cancelled due to lack of registrations</p><p><a href="https://www.doc.go
 vt.nz/parks-and-recreation/places-to-go/west-coast/places/paparoa-national-
 park/things-to-do/tracks/buckland-peaks-track/">https://www.doc.govt.nz/par
 ks-and-recreation/places-to-go/west-coast/places/paparoa-national-park/thin
 gs-to-do/tracks/buckland-peaks-track/</a></p><p>This is a steep climb thruo
 ugh beautiful bush to the hut, 4 hrs. 6 bunks, 1 ticket or hut pass. Drop p
 acks at track junction, climb another hour to the peaks, an amazing plateau
  with grand views all around! Explore for a few hours, then go down to stay
  in the cosy hut for the night. Next day, retrace our steps, drive to Lake 
 Rotoroa and water taxi to Sabine or d'Urville hut. Times and $ or the taxi 
 tba. Of course, you can drive home and join us for the Moss Pass, see Calen
 dar.</p><p>Depending on the weather, we might swap the days around. If fore
 cast for calm and dry, we could camp on the tops.</p><p>THIS TRAMP IS PART 
 OF THE BIG WEST COAST - Moss Pass - COMBO, see Club Calendar. You can join 
 us just for Bucklands Peaks, but have to arrange your own car pool once reg
 istered.</p> <a href="https://live.nelsontrampingclub.org.nz/events/1474/bu
 ckland-peaks?tmpl=component">This event was imported from: https://live.nel
 sontrampingclub.org.nz/events/1474/buckland-peaks?tmpl=component</a>DTSTAMP:20260420T125716
DTSTART;VALUE=DATE:20250204
DTEND;VALUE=DATE:20250205
SEQUENCE:0
TRANSP:OPAQUE
END:VEVENT
END:VCALENDAR