BEGIN:VCALENDAR
VERSION:2.0
PRODID:-//jEvents 2.0 for Joomla//EN
CALSCALE:GREGORIAN
METHOD:PUBLISH
BEGIN:VEVENT
UID:67cc7afe21d1da3b3f974ed18ed76df4
CATEGORIES:Day Trip
CREATED:20241010T031458
SUMMARY:Hartebreak Ridge Totara Saddle Browning Hut circuit
URL;VALUE=URI:https://live.nelsontrampingclub.org.nz/events/1472/hartebreak-ridge-totara-
 saddle-browning-hut-circuit?tmpl=component
DESCRIPTION:Walk from Hackett Car park to Whispering Falls Track. Walk up Hartebreak Ri
 dge (of to the R of Whispering Falls Track) to eventually reach a high poin
 t on the Rocks Browning Huts track. wal from this point to Totara Saddle an
 d Browning Hut and out to the Hackett. This is a long day walk, but a group
  of us on Wednesday did some track marking and pruning of gorse and scrub a
 s far as P596. The terrain is initially steep up to P447, then very rocky a
 long the ridge. \n This event was imported from: https://live.nelsontrampin
 gclub.org.nz/events/1472/hartebreak-ridge-totara-saddle-browning-hut-circui
 t?tmpl=component
X-ALT-DESC;FMTTYPE=text/html:<p>Walk from Hackett Car park to Whispering Falls Track. Walk up Hartebreak
  Ridge (of to the R of Whispering Falls Track) to eventually reach a high p
 oint on the Rocks Browning Huts track. wal from this point to Totara Saddle
  and Browning Hut and out to the Hackett. This is a long day walk, but a gr
 oup of us on Wednesday did some track marking and pruning of gorse and scru
 b as far as P596. The terrain is initially steep up to P447, then very rock
 y along the ridge.&nbsp;</p> <a href="https://live.nelsontrampingclub.org.n
 z/events/1472/hartebreak-ridge-totara-saddle-browning-hut-circuit?tmpl=comp
 onent">This event was imported from: https://live.nelsontrampingclub.org.nz
 /events/1472/hartebreak-ridge-totara-saddle-browning-hut-circuit?tmpl=compo
 nent</a>DTSTAMP:20260420T132200
DTSTART;VALUE=DATE:20241013
DTEND;VALUE=DATE:20241014
SEQUENCE:0
TRANSP:OPAQUE
END:VEVENT
END:VCALENDAR