BEGIN:VCALENDAR
VERSION:2.0
PRODID:-//jEvents 2.0 for Joomla//EN
CALSCALE:GREGORIAN
METHOD:PUBLISH
BEGIN:VEVENT
UID:b8ff2de12496276ec7fab5320a339a68
CATEGORIES:Extended Trip
CREATED:20240809T003339
SUMMARY:Waiuta Wanderings - CANCELLED
URL;VALUE=URI:https://live.nelsontrampingclub.org.nz/events/1459/waiuta-wanderings-cancel
 led?tmpl=component
DESCRIPTION:CANCELLED DUE TO HEAVY RAIN FORCAST\n\nWaiuta Lodge in the old goldming tow
 n of Waiuta just south of Reefton provides a very comfortable base to explo
 re the local area. Great tramps (short and overnight) and mountain biking a
 s well!\nThere is lots of fascinating history in what was an incredibly ric
 h gold mine.\nWaiuta Lodge has a fully equipped kitchen with hot showers av
 ailable. $17/night\nFollow this link for more information:\n https://www.do
 c.govt.nz/parks-and-recreation/places-to-go/west-coast/places/waiuta-area/t
 hings-to-do/lodges/waiuta-lodge/ (https://www.doc.govt.nz/parks-and-recreat
 ion/places-to-go/west-coast/places/waiuta-area/things-to-do/lodges/waiuta-l
 odge/)\nFor information on some of the local walks follow this link:-  (htt
 ps://www.waiuta.org.nz/walk-maps.pdf)https://www.waiuta.org.nz/walk-maps.pd
 f (https://www.waiuta.org.nz/walk-maps.pdf)\n\n This event was imported fro
 m: https://live.nelsontrampingclub.org.nz/events/1459/waiuta-wanderings-can
 celled?tmpl=component
X-ALT-DESC;FMTTYPE=text/html:<p>CANCELLED DUE TO HEAVY RAIN FORCAST</p><p></p><p>Waiuta Lodge in the old
  goldming town of Waiuta just south of Reefton provides a very comfortable 
 base to explore the local area. Great tramps (short and overnight) and moun
 tain biking as well!</p><p>There is lots of fascinating history in what was
  an incredibly rich gold mine.</p><p>Waiuta Lodge has a fully equipped kitc
 hen with hot showers available. $17/night</p><p>Follow this link for more i
 nformation:</p><p>&nbsp;<a href="https://www.doc.govt.nz/parks-and-recreati
 on/places-to-go/west-coast/places/waiuta-area/things-to-do/lodges/waiuta-lo
 dge/">https://www.doc.govt.nz/parks-and-recreation/places-to-go/west-coast/
 places/waiuta-area/things-to-do/lodges/waiuta-lodge/</a></p><p>For informat
 ion on some of the local walks follow this link:-&nbsp;<a href="https://www
 .waiuta.org.nz/walk-maps.pdf"></a><a href="https://www.waiuta.org.nz/walk-m
 aps.pdf">https://www.waiuta.org.nz/walk-maps.pdf</a></p><p></p> <a href="ht
 tps://live.nelsontrampingclub.org.nz/events/1459/waiuta-wanderings-cancelle
 d?tmpl=component">This event was imported from: https://live.nelsontramping
 club.org.nz/events/1459/waiuta-wanderings-cancelled?tmpl=component</a>DTSTAMP:20260420T132657
DTSTART;VALUE=DATE:20241026
DTEND;VALUE=DATE:20241029
SEQUENCE:0
TRANSP:OPAQUE
END:VEVENT
END:VCALENDAR