BEGIN:VCALENDAR
VERSION:2.0
PRODID:-//jEvents 2.0 for Joomla//EN
CALSCALE:GREGORIAN
METHOD:PUBLISH
BEGIN:VEVENT
UID:71cc0e97e79062aa415c38d654774af5
CATEGORIES:Day Trip
CREATED:20240620T074146
SUMMARY:Hartebreak Ridge - Track marking
URL;VALUE=URI:https://live.nelsontrampingclub.org.nz/events/1452/hartebreak-ridge-track-m
 arking?tmpl=component
DESCRIPTION:<p>The Hartbreak Ridge track and loop to Totara Saddle and Browning Hut is 
 a great longish day walk in Nelson's backyard the Hacket. A trail has been 
 blazed, but more permanent markers need to be installed and likely some veg
 etation trimming needed.&nbsp;<span>Much of the work marking this track was
  done by Ian Morris and I consider keeping this track open and used would b
 e a great way to honour the contribution Ian made to our club.</span> I pro
 pose we plan an overnight trip staying at Browning Hut doing track clearing
  and marking on the route in. We then either return the way we came via Tot
 ara Saddle and down Hartebreak Ridge if not completed on the way in, or, if
  good progress was made, we return via Browning track.</p><p>Alternatively 
 we could consider doing it as a long day trip especially if we get a good n
 umber of participants.</p> <a href="https://live.nelsontrampingclub.org.nz/
 events/1452/hartebreak-ridge-track-marking?tmpl=component">This event was i
 mported from: https://live.nelsontrampingclub.org.nz/events/1452/hartebreak
 -ridge-track-marking?tmpl=component</a>DTSTAMP:20260420T102914
DTSTART;VALUE=DATE:20241009
DTEND;VALUE=DATE:20241010
SEQUENCE:0
TRANSP:OPAQUE
END:VEVENT
END:VCALENDAR