BEGIN:VCALENDAR
VERSION:2.0
PRODID:-//jEvents 2.0 for Joomla//EN
CALSCALE:GREGORIAN
METHOD:PUBLISH
BEGIN:VEVENT
UID:3602a2c8cf825527f7279f80adc2ef71
CATEGORIES:Day Trip
CREATED:20240620T011952
SUMMARY:Mt Robert capers 
URL;VALUE=URI:https://live.nelsontrampingclub.org.nz/events/1451/mt-robert-capers?tmpl=co
 mponent
DESCRIPTION:From Mt Robert carpark ascend Pinchgut Track to Relax Shelter. If condition
 s are suitable, continue along Robert Ridge, perhaps as far as Flagtop and 
 Mt Christie. Return via Paddy's Track. Potentially visit Robert Lodge if co
 nditions in 2nd Basin allow.\n This event was imported from: https://live.n
 elsontrampingclub.org.nz/events/1451/mt-robert-capers?tmpl=component
X-ALT-DESC;FMTTYPE=text/html:<p>From Mt Robert carpark ascend Pinchgut Track to Relax Shelter. If condit
 ions are suitable, continue along Robert Ridge, perhaps as far as Flagtop a
 nd Mt Christie. Return via Paddy's Track. Potentially visit Robert Lodge if
  conditions in 2nd Basin allow.</p> <a href="https://live.nelsontrampingclu
 b.org.nz/events/1451/mt-robert-capers?tmpl=component">This event was import
 ed from: https://live.nelsontrampingclub.org.nz/events/1451/mt-robert-caper
 s?tmpl=component</a>DTSTAMP:20260420T095808
DTSTART;VALUE=DATE:20240622
DTEND;VALUE=DATE:20240623
SEQUENCE:0
TRANSP:OPAQUE
END:VEVENT
END:VCALENDAR