BEGIN:VCALENDAR
VERSION:2.0
PRODID:-//jEvents 2.0 for Joomla//EN
CALSCALE:GREGORIAN
METHOD:PUBLISH
BEGIN:VEVENT
UID:75b63925f10fe894d31e5e259b0846fc
CATEGORIES:Summer Hill Series
CREATED:20240526T233228
SUMMARY:SUMMER HILL SERIES - Washbourn Gardens to Grassey Saddle
URL;VALUE=URI:https://live.nelsontrampingclub.org.nz/events/1438/summer-hill-series-washb
 ourn-gardens-to-grassey-saddle?tmpl=component
DESCRIPTION:SUMMER HILL SERIES\n\nMeet at Washbourn Gardens Oxford Street car park at 5
 :30pm. Walk to Grassey Saddle via Jimmy Lee Creek. Return either the same w
 ay, or via Will's Gully. No registration or bookings; just turn up.\n This 
 event was imported from: https://live.nelsontrampingclub.org.nz/events/1438
 /summer-hill-series-washbourn-gardens-to-grassey-saddle?tmpl=component
X-ALT-DESC;FMTTYPE=text/html:<p>SUMMER HILL SERIES</p><p><br />Meet at Washbourn Gardens Oxford Street c
 ar park at 5:30pm. Walk to Grassey Saddle via Jimmy Lee Creek. Return eithe
 r the same way, or via Will's Gully. No registration or bookings; just turn
  up.</p> <a href="https://live.nelsontrampingclub.org.nz/events/1438/summer
 -hill-series-washbourn-gardens-to-grassey-saddle?tmpl=component">This event
  was imported from: https://live.nelsontrampingclub.org.nz/events/1438/summ
 er-hill-series-washbourn-gardens-to-grassey-saddle?tmpl=component</a>DTSTAMP:20260420T132657
DTSTART;VALUE=DATE:20241009
DTEND;VALUE=DATE:20241010
SEQUENCE:0
TRANSP:OPAQUE
END:VEVENT
END:VCALENDAR