BEGIN:VCALENDAR
VERSION:2.0
PRODID:-//jEvents 2.0 for Joomla//EN
CALSCALE:GREGORIAN
METHOD:PUBLISH
BEGIN:VEVENT
UID:52988e8503fc15bc7059955c1db68366
CATEGORIES:Day Trip
CREATED:20240526T095630
SUMMARY:Mt Takorika, Havelock
URL;VALUE=URI:https://live.nelsontrampingclub.org.nz/events/1436/mt-takorika,-havelock?tm
 pl=component
DESCRIPTION:<p>This is a moderate, 4 to 5 hours return walk (6.7 km). The summit is 721
 m (50m at the start).&nbsp; We start the walk in Havelock and go up communi
 ty tracks to the top of Mt Takorika, which overlooks Havelock and Pelorus S
 ound. Nice views from the top on a good day. It's an hour drive to Havelock
  from Nelson, we'll meet at the Cathedral Steps in Nelson. I've put the day
  down as Saturday, which leaves some flexibility to go Sunday instead if th
 e weather is better then.&nbsp;</p> <a href="https://live.nelsontrampingclu
 b.org.nz/events/1436/mt-takorika,-havelock?tmpl=component">This event was i
 mported from: https://live.nelsontrampingclub.org.nz/events/1436/mt-takorik
 a,-havelock?tmpl=component</a>DTSTAMP:20260420T132831
DTSTART;VALUE=DATE:20240824
DTEND;VALUE=DATE:20240825
SEQUENCE:0
TRANSP:OPAQUE
END:VEVENT
END:VCALENDAR