BEGIN:VCALENDAR
VERSION:2.0
PRODID:-//jEvents 2.0 for Joomla//EN
CALSCALE:GREGORIAN
METHOD:PUBLISH
BEGIN:VEVENT
UID:6d66e8593ad985ce64c383bd3575f8a7
CATEGORIES:Day Trip
CREATED:20240526T095250
SUMMARY:Mt Patriarch, Wangapeka
URL;VALUE=URI:https://live.nelsontrampingclub.org.nz/events/1435/mt-patriarch,-wangapeka?
 tmpl=component
DESCRIPTION:There are two possible options depending on weather and interest:\n\n - Fit
  day trip to Mt Patriarch III direct out of the Wangapeka. From Rolling Riv
 er car park take the main Wangapeka Track until just past where Patriarch C
 reek comes in. Cross the Wangapeka river and proceed up through the forest 
 on a spur above and West of P. Creek. When at the bushline, move across and
  up a basin to under Mt Patriarch. A last steep scramble brings us to the s
 ummit of P III. Splendid views to Patriarch II and I, and across the Wangap
 eka to the Mt Owen massif. Back down the way we came, or down to Kiwi Saddl
 e and out via the valley track.\n - Medium two day trip to Kiwi Saddle Hut 
 and Patriarch I. As for 1 but continue on the Wangapeka Track to the swing 
 bridge just before Kings Hut. Up Kiwi Stream on a good track to Kiwi Saddle
  Hut (6 bunks). In the morning, climb Mt Patriarch (1700m) from the ridge r
 oute. Return to the hut for packs and on down the track back to Rolling Riv
 er.Contact Malcom well before the weekend to discuss these options\n This e
 vent was imported from: https://live.nelsontrampingclub.org.nz/events/1435/
 mt-patriarch,-wangapeka?tmpl=component
X-ALT-DESC;FMTTYPE=text/html:<p>There are two possible options depending on weather and interest:</p><ol
 ><li>Fit day trip to Mt Patriarch III direct out of the Wangapeka. From Rol
 ling River car park take the main Wangapeka Track until just past where Pat
 riarch Creek comes in. Cross the Wangapeka river and proceed up through the
  forest on a spur above and West of P. Creek. When at the bushline, move ac
 ross and up a basin to under Mt Patriarch. A last steep scramble brings us 
 to the summit of P III. Splendid views to Patriarch II and I, and across th
 e Wangapeka to the Mt Owen massif. Back down the way we came, or down to Ki
 wi Saddle and out via the valley track.</li><li>Medium two day trip to Kiwi
  Saddle Hut and Patriarch I. As for 1 but continue on the Wangapeka Track t
 o the swing bridge just before Kings Hut. Up Kiwi Stream on a good track to
  Kiwi Saddle Hut (6 bunks). In the morning, climb Mt Patriarch (1700m) from
  the ridge route. Return to the hut for packs and on down the track back to
  Rolling River.</li></ol><p>Contact Malcom well before the weekend to discu
 ss these options</p> <a href="https://live.nelsontrampingclub.org.nz/events
 /1435/mt-patriarch,-wangapeka?tmpl=component">This event was imported from:
  https://live.nelsontrampingclub.org.nz/events/1435/mt-patriarch,-wangapeka
 ?tmpl=component</a>DTSTAMP:20260420T132637
DTSTART;VALUE=DATE:20241123
DTEND;VALUE=DATE:20241124
SEQUENCE:0
TRANSP:OPAQUE
END:VEVENT
END:VCALENDAR