BEGIN:VCALENDAR
VERSION:2.0
PRODID:-//jEvents 2.0 for Joomla//EN
CALSCALE:GREGORIAN
METHOD:PUBLISH
BEGIN:VEVENT
UID:3b087da20374ce3972a516c4f3d21779
CATEGORIES:Day Trip
CREATED:20240522T225421
SUMMARY:Trig K, Pelorus
URL;VALUE=URI:https://live.nelsontrampingclub.org.nz/events/1429/trig-k,-pelorus?tmpl=com
 ponent
DESCRIPTION:\nAt Pelorus bridge reserve begin on the Tawa track and approach the trig o
 n the shorter steeper path through lush podocarp/broadleaf to the trig with
  superb views of the surrounding countryside.\nDescend through maturing and
  regenerating beech forest and to the Elvy Waterfalls. 7KM.\n This event wa
 s imported from: https://live.nelsontrampingclub.org.nz/events/1429/trig-k,
 -pelorus?tmpl=component
X-ALT-DESC;FMTTYPE=text/html:<p></p><p>At Pelorus bridge reserve begin on the Tawa track and approach th
 e trig on the shorter steeper path through lush podocarp/broadleaf to the t
 rig with superb views of the surrounding countryside.</p><p>Descend through
  maturing and regenerating beech forest and to the Elvy Waterfalls. 7KM.</p
 > <a href="https://live.nelsontrampingclub.org.nz/events/1429/trig-k,-pelor
 us?tmpl=component">This event was imported from: https://live.nelsontrampin
 gclub.org.nz/events/1429/trig-k,-pelorus?tmpl=component</a>DTSTAMP:20260420T132637
DTSTART;VALUE=DATE:20241103
DTEND;VALUE=DATE:20241104
SEQUENCE:0
TRANSP:OPAQUE
END:VEVENT
END:VCALENDAR