BEGIN:VCALENDAR
VERSION:2.0
PRODID:-//jEvents 2.0 for Joomla//EN
CALSCALE:GREGORIAN
METHOD:PUBLISH
BEGIN:VEVENT
UID:88c484d1259c0e7be74a814476eb091e
CATEGORIES:Day Trip
CREATED:20240511T235431
SUMMARY:Dun Mountain,Little Twin, Dew Lakes circuit
URL;VALUE=URI:https://live.nelsontrampingclub.org.nz/events/1423/dun-mountain,little-twin
 ,-dew-lakes-circuit?tmpl=component
DESCRIPTION:<p>From Maitai dam we take the Dun Mountain trail, heading to Dun Mtn Saddl
 e and Dun Shelter for lunch. Still a small climb from Lunch to 1129M of Dun
  Mtn before dropping to a saddle to Little Twin. Over Little Twin (1143M) a
 nd along an interesting beech forest ridge to Dew lakes. Return to the cars
  via Rush pools and the Pakohe (argillite) quarry site.</p><p>This is a lon
 g trip 19km approx 1150M elevation gain.</p> <a href="https://live.nelsontr
 ampingclub.org.nz/events/1423/dun-mountain,little-twin,-dew-lakes-circuit?t
 mpl=component">This event was imported from: https://live.nelsontrampingclu
 b.org.nz/events/1423/dun-mountain,little-twin,-dew-lakes-circuit?tmpl=compo
 nent</a>DTSTAMP:20260420T130429
DTSTART;VALUE=DATE:20240929
DTEND;VALUE=DATE:20240930
SEQUENCE:0
TRANSP:OPAQUE
END:VEVENT
END:VCALENDAR