BEGIN:VCALENDAR
VERSION:2.0
PRODID:-//jEvents 2.0 for Joomla//EN
CALSCALE:GREGORIAN
METHOD:PUBLISH
BEGIN:VEVENT
UID:0897bebfe1fd3f2ca91d040e4037b037
CATEGORIES:Extended Trip
CREATED:20240508T071008
SUMMARY:Robert Lodge + Angelus hut day walk
URL;VALUE=URI:https://live.nelsontrampingclub.org.nz/events/1418/robert-lodge-angelus-hut
 -day-walk?tmpl=component
DESCRIPTION:THIS TRIP IS NOW CANCELLED DUE TO HEALTH AND WEATHER\nRobert Lodge, owned b
 y the Mt. Robert Foundation, (https://www.mtrobert.org.nz/ (https://www.mtr
 obert.org.nz/)) is a magical spot in Mt Roberts 2nd Basin in the beautiful 
 Nelson Lakes National Park. The lodge can sleep 30 people, has mattresses, 
 water, gas stove, cuttlery &amp; crockery, solar lighting, wood burner... a
 nd more.\nWe will walk up to the lodge via the Pinch gut track on Friday af
 ternoon/ evening depending on the groups avaliability.  It is about a 1.5 t
 o 2.5 hour walk. Come prepared with your torch if we leave late. There may 
 or may not be snow on the ridge by then. I will confirm arrangements nearer
  the time. \nOn Saturday we will do a day walk to Angelus hut and back to t
 he Lodge for dinner. There may be an alternative option to walk up Christie
 's ridge instead, if the Angelus walk is too far or too snowy.\nAfter a rel
 axing Sunday morning, we will make our way back off the ridge, possibly via
  Paddy's track.\nWe will make a pot luck stew on Saturday night, so bring m
 eat and veggies if you want to join in the meal. (let me know if you are ta
 king part in the social meal). Mulled wine is also a welcome additive to th
 e meal.\nHut fees: Non-members $25/night (school aged $10/night) x 2 nights
 . \n This event was imported from: https://live.nelsontrampingclub.org.nz/e
 vents/1418/robert-lodge-angelus-hut-day-walk?tmpl=component
X-ALT-DESC;FMTTYPE=text/html:<p>THIS TRIP IS NOW CANCELLED DUE TO HEALTH AND WEATHER</p><p>Robert Lodge,
  owned by the Mt. Robert Foundation, (<a href="https://www.mtrobert.org.nz/
 ">https://www.mtrobert.org.nz/</a>) is a magical spot in&nbsp;Mt Roberts 2n
 d Basin in the beautiful Nelson Lakes National Park. The lodge can sleep 30
  people, has mattresses, water, gas stove, cuttlery &amp; crockery, solar l
 ighting, wood burner... and more.</p><p>We will walk up&nbsp;to the lodge v
 ia the Pinch gut track on Friday afternoon/ evening depending on the groups
  avaliability.&nbsp; It is about a 1.5 to 2.5 hour walk. Come prepared with
  your torch if we leave late. There may or may not be snow on the ridge by 
 then. I will confirm arrangements nearer the time.&nbsp;</p><p>On Saturday 
 we will do a day walk to Angelus hut and back to the Lodge for dinner. Ther
 e may be an alternative option to walk up Christie's ridge instead, if the 
 Angelus walk is too far or too snowy.</p><p>After a relaxing Sunday morning
 , we will make our way back off the ridge, possibly via Paddy's track.</p><
 p>We will make a pot luck stew on Saturday night, so bring meat and veggies
  if you want to join in the meal. (let me know if you are taking part in th
 e social meal). Mulled wine is also a welcome additive to the meal.</p><p>H
 ut fees:&nbsp;Non-members $25/night (school aged $10/night) x 2 nights.&nbs
 p;</p> <a href="https://live.nelsontrampingclub.org.nz/events/1418/robert-l
 odge-angelus-hut-day-walk?tmpl=component">This event was imported from: htt
 ps://live.nelsontrampingclub.org.nz/events/1418/robert-lodge-angelus-hut-da
 y-walk?tmpl=component</a>DTSTAMP:20260420T125549
DTSTART;VALUE=DATE:20240621
DTEND;VALUE=DATE:20240624
SEQUENCE:0
TRANSP:OPAQUE
END:VEVENT
END:VCALENDAR