BEGIN:VCALENDAR
VERSION:2.0
PRODID:-//jEvents 2.0 for Joomla//EN
CALSCALE:GREGORIAN
METHOD:PUBLISH
BEGIN:VEVENT
UID:3a16f796c8e09eae8b3d7b6edd066c71
CATEGORIES:Day Trip
CREATED:20240507T084833
SUMMARY:Mt Arthur
URL;VALUE=URI:https://live.nelsontrampingclub.org.nz/events/1414/mt-arthur?tmpl=component
DESCRIPTION:Drive to Flora carpark then walk to Mt Arthur via the standard route.\nIf t
 he weather gods are on our side there will be some snow on the ground close
  to the summit. This will allow perhaps the first use of ice axe and possib
 ly crampons this winter.\n This event was imported from: https://live.nelso
 ntrampingclub.org.nz/events/1414/mt-arthur?tmpl=component
X-ALT-DESC;FMTTYPE=text/html:<p>Drive to Flora carpark then walk to Mt Arthur via the standard route.</p
 ><p>If the weather gods are on our side there will be some snow on the grou
 nd close to the summit. This will allow perhaps the first use of ice axe an
 d possibly crampons this winter.</p> <a href="https://live.nelsontrampingcl
 ub.org.nz/events/1414/mt-arthur?tmpl=component">This event was imported fro
 m: https://live.nelsontrampingclub.org.nz/events/1414/mt-arthur?tmpl=compon
 ent</a>DTSTAMP:20260420T101459
DTSTART;VALUE=DATE:20240721
DTEND;VALUE=DATE:20240722
SEQUENCE:0
TRANSP:OPAQUE
END:VEVENT
END:VCALENDAR