BEGIN:VCALENDAR
VERSION:2.0
PRODID:-//jEvents 2.0 for Joomla//EN
CALSCALE:GREGORIAN
METHOD:PUBLISH
BEGIN:VEVENT
UID:15734bbabf6aff79363f7a9ec309e82e
CATEGORIES:Day Trip
CREATED:20240505T084908
SUMMARY:Porter Rock
URL;VALUE=URI:https://live.nelsontrampingclub.org.nz/events/1411/porter-rock?tmpl=compone
 nt
DESCRIPTION:Visit Porter Rocks via the inland Abel tasman Track from Canaan Downs via M
 oa Park Shelter.\nDistance: 14 km\n\n This event was imported from: https:/
 /live.nelsontrampingclub.org.nz/events/1411/porter-rock?tmpl=component
X-ALT-DESC;FMTTYPE=text/html:<p>Visit Porter Rocks via the inland Abel tasman Track from Canaan Downs vi
 a Moa Park Shelter.</p><p>Distance: 14 km</p><p></p> <a href="https://live.
 nelsontrampingclub.org.nz/events/1411/porter-rock?tmpl=component">This even
 t was imported from: https://live.nelsontrampingclub.org.nz/events/1411/por
 ter-rock?tmpl=component</a>DTSTAMP:20260420T102903
DTSTART;VALUE=DATE:20240811
DTEND;VALUE=DATE:20240812
SEQUENCE:0
TRANSP:OPAQUE
END:VEVENT
END:VCALENDAR