BEGIN:VCALENDAR
VERSION:2.0
PRODID:-//jEvents 2.0 for Joomla//EN
CALSCALE:GREGORIAN
METHOD:PUBLISH
BEGIN:VEVENT
UID:2699d27c5caace14f39a5ba242459aea
CATEGORIES:Overnight Trip
CREATED:20240505T060141
SUMMARY:Lake Stream Hut & Mt Haast CANCELLED
URL;VALUE=URI:https://live.nelsontrampingclub.org.nz/events/1408/lake-stream-hut-mt-haast
 -cancelled?tmpl=component
DESCRIPTION:Lake Stream Hut &amp; Mt Haast\nDay 1: Drive 2.5 hrs past Springs Junction.
  From Rahu Saddle, walk thru bush for 3.5 hours, crossing the stream a few 
 times. Sleep in quaint 2-bunk bivouac. Good camping nearby.\n\nRoute: https
 ://www.doc.govt.nz/parks-and-recreation/places-to-go/west-coast/places/vict
 oria-forest-park/things-to-do/tracks/lake-stream-route/ (https://www.doc.go
 vt.nz/parks-and-recreation/places-to-go/west-coast/places/victoria-forest-p
 ark/things-to-do/tracks/lake-stream-route/)\nDay 2: Return to car and track
 head. Climb a very steep ridge for two hours to the bushline on a well-form
 ed route. It is another hour along the right-hand ridge to the pyramid-shap
 ed peak of 1587 m Mt Haast which provides spectacular views of nearby glaci
 al valleys and the Main Divide. This route is dependent on weather and the 
 party's capabilities.\nRoute: https://www.doc.govt.nz/parks-and-recreation/
 places-to-go/west-coast/places/victoria-forest-park/things-to-do/tracks/mou
 nt-haast-route/ (https://www.doc.govt.nz/parks-and-recreation/places-to-go/
 west-coast/places/victoria-forest-park/things-to-do/tracks/mount-haast-rout
 e/)\n \n This event was imported from: https://live.nelsontrampingclub.org.
 nz/events/1408/lake-stream-hut-mt-haast-cancelled?tmpl=component
X-ALT-DESC;FMTTYPE=text/html:<p><strong>Lake Stream Hut &amp; Mt Haast</strong></p><p><strong>Day 1:</st
 rong> Drive 2.5 hrs past Springs Junction. From Rahu Saddle, walk thru bush
  for 3.5 hours, crossing the stream a few times. Sleep in quaint 2-bunk biv
 ouac. Good camping nearby.<br /><br />Route: <a href="https://www.doc.govt.
 nz/parks-and-recreation/places-to-go/west-coast/places/victoria-forest-park
 /things-to-do/tracks/lake-stream-route/">https://www.doc.govt.nz/parks-and-
 recreation/places-to-go/west-coast/places/victoria-forest-park/things-to-do
 /tracks/lake-stream-route/</a></p><p><strong>Day 2: </strong>Return to car 
 and trackhead. Climb a very steep ridge for two hours to the bushline on a 
 well-formed route. It is another hour along the right-hand ridge to the pyr
 amid-shaped peak of 1587 m Mt Haast which provides spectacular views of nea
 rby glacial valleys and the Main Divide. This route is dependent on weather
  and the party's capabilities.</p><p>Route: <a href="https://www.doc.govt.n
 z/parks-and-recreation/places-to-go/west-coast/places/victoria-forest-park/
 things-to-do/tracks/mount-haast-route/">https://www.doc.govt.nz/parks-and-r
 ecreation/places-to-go/west-coast/places/victoria-forest-park/things-to-do/
 tracks/mount-haast-route/</a></p><p><strong>&nbsp;</strong></p> <a href="ht
 tps://live.nelsontrampingclub.org.nz/events/1408/lake-stream-hut-mt-haast-c
 ancelled?tmpl=component">This event was imported from: https://live.nelsont
 rampingclub.org.nz/events/1408/lake-stream-hut-mt-haast-cancelled?tmpl=comp
 onent</a>DTSTAMP:20260420T132630
DTSTART;VALUE=DATE:20241012
DTEND;VALUE=DATE:20241014
SEQUENCE:0
TRANSP:OPAQUE
END:VEVENT
END:VCALENDAR