BEGIN:VCALENDAR
VERSION:2.0
PRODID:-//jEvents 2.0 for Joomla//EN
CALSCALE:GREGORIAN
METHOD:PUBLISH
BEGIN:VEVENT
UID:d105dc8f41b4c6a10d44c50d7a1f59f5
CATEGORIES:Day Trip
CREATED:20240505T052231
SUMMARY:Mt Malita & Mt Meares twin climb
URL;VALUE=URI:https://live.nelsontrampingclub.org.nz/events/1407/mt-malita-mt-meares-twin
 -climb?tmpl=component
DESCRIPTION:Mt Malita (959m) in Aniseed Valley is a challenging day walk within close r
 ange of the city. The summit is a hard slog involving nearly 800 m of eleva
 tion gain (at an average gradient of 15%), but you will be rewarded with st
 unning views of Tasman Bay and access to some intriguing limestone formatio
 ns. Forestry road access to within short distance of the summit allows Mt M
 alita to be climbed by foot.\nThe track starts on the other side of Roding 
 River. Thankfully the swingbridge which was washed away in Feb 2018 has bee
 n replaced by new concrete road bridge. Fll out the intentions book, locate
 d at the information panel across the river from the car park.\nDescription
 Once over Roding River head right on Summit Rd. After 1.2 km Old Malita Rd 
 forks off to the right. Continue on Summit Rd as it continues winding steep
 ly up through the pine forest for 2.5 km to 575 m elevation, at which point
  it reconnects with Old Malita Rd. Summit Rd continues to a skid site at 72
 5 m elevation, where the road splits three ways; Burridge Rd heads left, Sp
 ar Rd heads right, but to get to the summit, head up the unnamed rough-look
 ing road that climbs straight up the spur through felled pine that is now o
 vergrown with gorse. The next few hundred metres are steep. The road dips b
 riefly into a low saddle that marks the end of the forestry block, and then
  climbs again through regenerating native trees and scrub.\nThe 4WD ends an
 d a walking track climbs steeply up the bank on the left, heading straight 
 up the hill through tall grass, limestone outcrops, and long-dead tree trun
 ks and stumps. The summit is located at the top of the ridge next to the bu
 sh edge and is marked by a survey pipe in a limestone outcrop. Just south o
 f the summit there is a two-bunk hut (owned by Nelson City Council) nestled
  next to the tree line. It is now left unlocked, and quite a few folk overn
 ight here. \nJust below the summit there is a small concrete platform built
  in 1962 to support a telescope housed in a shelter. This was used by the U
 niversity of Pennsylvania to investigate the suitability of Mt Malita as a 
 site for an astronomical observatory. Too much light pollution from Nelson 
 and Richmond prevented this from becoming a reality, and instead Mt John ne
 ar Lake Tekapo was selected as a more appropriate location.\nMy plan is to 
 go off-track along the ridge to visit Mt Meares :-)\nTime: 5-6 hrs walking.
  Elevation Gain:  700m. Distance: 10km to Malita &amp; return.\n This event
  was imported from: https://live.nelsontrampingclub.org.nz/events/1407/mt-m
 alita-mt-meares-twin-climb?tmpl=component
X-ALT-DESC;FMTTYPE=text/html:<p><strong>Mt Malita</strong> (959m) in Aniseed Valley is a challenging day
  walk within close range of the city. The summit is a hard slog involving n
 early 800 m of elevation gain (at an average gradient of 15%), but you will
  be rewarded with stunning views of Tasman Bay and access to some intriguin
 g limestone formations. Forestry road access to within short distance of th
 e summit allows Mt Malita to be climbed by foot.</p><div class="box1"><p>Th
 e track starts on the other side of <strong>Roding River. </strong>Thankful
 ly the swingbridge which was washed away in Feb 2018 has been replaced by n
 ew concrete road bridge. Fll out the intentions book, located at the inform
 ation panel across the river from the car park.</p></div><div class="box2">
 <div id="dividermain"><strong>Description</strong></div><p>Once over Roding
  River head right on <strong>Summit Rd</strong>. After 1.2 km Old Malita Rd
  forks off to the right. Continue on Summit Rd as it continues winding stee
 ply up through the pine forest for 2.5 km to 575 m elevation, at which poin
 t it reconnects with Old Malita Rd. Summit Rd continues to a skid site at 7
 25 m elevation, where the road splits three ways; Burridge Rd heads left, S
 par Rd heads right, but to get to the summit, head up the unnamed rough-loo
 king road that climbs straight up the spur through felled pine that is now 
 overgrown with gorse. The next few hundred metres are steep. The road dips 
 briefly into a low saddle that marks the end of the forestry block, and the
 n climbs again through regenerating native trees and scrub.</p><p>The 4WD e
 nds and a <strong>walking track</strong> climbs steeply up the bank on the 
 left, heading straight up the hill through tall grass, limestone outcrops, 
 and long-dead tree trunks and stumps. The summit is located at the top of t
 he ridge next to the bush edge and is marked by a survey pipe in a limeston
 e outcrop. Just south of the summit there is a two-bunk hut (owned by Nelso
 n City Council) nestled next to the tree line. It is now left unlocked, and
  quite a few folk overnight here.&nbsp;</p><p>Just below the summit there i
 s a small concrete platform built in 1962 to support a telescope housed in 
 a shelter. This was used by the University of Pennsylvania to investigate t
 he suitability of Mt Malita as a site for an astronomical observatory. Too 
 much light pollution from Nelson and Richmond prevented this from becoming 
 a reality, and instead Mt John near Lake Tekapo was selected as a more appr
 opriate location.</p><p>My plan is to go off-track along the ridge to visit
  <strong>Mt Meares</strong> :-)</p><p><strong>Time:</strong> 5-6 hrs walkin
 g. <strong>Elevation Gain: </strong> 700m. <strong>Distance: </strong>10km 
 to Malita &amp; return.</p></div> <a href="https://live.nelsontrampingclub.
 org.nz/events/1407/mt-malita-mt-meares-twin-climb?tmpl=component">This even
 t was imported from: https://live.nelsontrampingclub.org.nz/events/1407/mt-
 malita-mt-meares-twin-climb?tmpl=component</a>DTSTAMP:20260420T132658
DTSTART;VALUE=DATE:20240817
DTEND;VALUE=DATE:20240818
SEQUENCE:0
TRANSP:OPAQUE
END:VEVENT
END:VCALENDAR