BEGIN:VCALENDAR
VERSION:2.0
PRODID:-//jEvents 2.0 for Joomla//EN
CALSCALE:GREGORIAN
METHOD:PUBLISH
BEGIN:VEVENT
UID:2e9abd58b2e760969dba3c9c2f4313f4
CATEGORIES:Day Trip
CREATED:20240504T190536
SUMMARY:Trig K, Pelorus.    
URL;VALUE=URI:https://live.nelsontrampingclub.org.nz/events/1402/trig-k,-pelorus?tmpl=com
 ponent
DESCRIPTION:Meet at Pelorus Bridge reserve.\nBeginning at the Tawa track approach the t
 rig on the shorter steeper path through lush podocarp/broadleaf to the trig
  with superb views of the surrounding countryside.\nDescend through maturin
 g and regenerating beech forest and to the Elvy Waterfalls. 7KM.\n This eve
 nt was imported from: https://live.nelsontrampingclub.org.nz/events/1402/tr
 ig-k,-pelorus?tmpl=component
X-ALT-DESC;FMTTYPE=text/html:<p>Meet at Pelorus Bridge reserve.</p><p>Beginning at the Tawa track approa
 ch the trig on the shorter steeper path through lush podocarp/broadleaf to 
 the trig with superb views of the surrounding countryside.</p><p>Descend th
 rough maturing and regenerating beech forest and to the Elvy Waterfalls. 7K
 M.</p> <a href="https://live.nelsontrampingclub.org.nz/events/1402/trig-k,-
 pelorus?tmpl=component">This event was imported from: https://live.nelsontr
 ampingclub.org.nz/events/1402/trig-k,-pelorus?tmpl=component</a>DTSTAMP:20260420T101415
DTSTART;VALUE=DATE:20240512
DTEND;VALUE=DATE:20240513
SEQUENCE:0
TRANSP:OPAQUE
END:VEVENT
END:VCALENDAR