BEGIN:VCALENDAR
VERSION:2.0
PRODID:-//jEvents 2.0 for Joomla//EN
CALSCALE:GREGORIAN
METHOD:PUBLISH
BEGIN:VEVENT
UID:38762a62415f55196a938e8cc5ff6d00
CATEGORIES:Overnight Trip
CREATED:20240411T210159
SUMMARY:Winter Snow Trips
URL;VALUE=URI:https://live.nelsontrampingclub.org.nz/events/1396/winter-snow-trips?tmpl=c
 omponent
DESCRIPTION:Hello team\n \n Planning a variety of snow trips. As these are totally weat
 her, snow, avalanche condition dependent I am not listing dates. Please kee
 p an eyeball for updates.\n They will likely be listed at short notice and 
 could be during the week, though my preference will be to aim for weekends 
 if the opportunity arises. \nLikely these wont run before Mid August and be
  spring trips. I will be sailing at some point in Wnter/Spring and havent d
 ates for this yet, so another reason to keep dates flexible on my part.  \n
  \nTrip One\n Mt Angelus Summit - Fit trip. Ice Ax and crampton experience 
 essential. Over two days.\n \nTrip Two\nLewis Pass - Day trips based at Pla
 mer Lodge, Deer Hunters Lodge. $20 pp per night and contribution towards ke
 y courier.  Options Mt Haast, Mt Norman, Travers, Klondyke Tarns circuit, e
 ct\nMedium trips can be lsited. The lodge sleeps 14, so other leaders can p
 ipe in and do alternatives in the area - Day trip up ther Lewis tops ect. \
 n \nTrip Three\nArthurs Pass day trips. Based at CTC hut $20 pp per night. 
 Multiple options in this area Avalanche Peak/ Bealy, Mt Aicken ect ect. Aga
 in with other leaders piping in Medium trips can be arranged and skills adj
 ucted to suit. Likely three to four days. \n \n \n This event was imported 
 from: https://live.nelsontrampingclub.org.nz/events/1396/winter-snow-trips?
 tmpl=component
X-ALT-DESC;FMTTYPE=text/html:<p>Hello team</p><p>&nbsp;</p><p>&nbsp;Planning a variety of snow trips. As
  these are totally weather, snow, avalanche condition dependent I am not li
 sting dates. Please keep an eyeball for updates.</p><p>&nbsp;They will like
 ly be listed at short notice and could be during the week, though my prefer
 ence will be to aim for weekends if the opportunity arises.&nbsp;</p><p>Lik
 ely these wont run before Mid August and be spring trips. I will be sailing
  at some point in Wnter/Spring and havent dates for this yet, so another re
 ason to keep dates flexible on my part.&nbsp;&nbsp;</p><p>&nbsp;</p><p>Trip
  One</p><p>&nbsp;Mt Angelus Summit - Fit trip. Ice Ax and crampton experien
 ce essential. Over two days.</p><p>&nbsp;</p><p>Trip Two</p><p>Lewis Pass -
  Day trips based at Plamer Lodge, Deer Hunters Lodge. $20 pp per night and 
 contribution towards key courier.&nbsp; Options Mt Haast, Mt Norman, Traver
 s, Klondyke Tarns circuit, ect</p><p>Medium trips can be lsited. The lodge 
 sleeps 14, so other leaders can pipe in and do alternatives in the area - D
 ay trip up ther Lewis tops ect.&nbsp;</p><p>&nbsp;</p><p>Trip Three</p><p>A
 rthurs Pass day trips. Based at CTC hut $20 pp per night. Multiple options 
 in this area Avalanche Peak/ Bealy, Mt Aicken ect ect. Again with other lea
 ders piping in Medium trips can be arranged and skills adjucted to suit. Li
 kely three to four days.&nbsp;</p><p>&nbsp;</p><p>&nbsp;</p> <a href="https
 ://live.nelsontrampingclub.org.nz/events/1396/winter-snow-trips?tmpl=compon
 ent">This event was imported from: https://live.nelsontrampingclub.org.nz/e
 vents/1396/winter-snow-trips?tmpl=component</a>DTSTAMP:20260420T104046
DTSTART;VALUE=DATE:20240818
DTEND;VALUE=DATE:20240819
SEQUENCE:0
TRANSP:OPAQUE
END:VEVENT
END:VCALENDAR