BEGIN:VCALENDAR
VERSION:2.0
PRODID:-//jEvents 2.0 for Joomla//EN
CALSCALE:GREGORIAN
METHOD:PUBLISH
BEGIN:VEVENT
UID:d1768d239a376947215dfa2a8d024f89
CATEGORIES:Day Trip
CREATED:20240405T040602
SUMMARY:Mt McMahon/Crusader
URL;VALUE=URI:https://live.nelsontrampingclub.org.nz/events/1392/mt-mcmahon-crusader?tmpl
 =component
DESCRIPTION:From Flora Saddle climb Lodestone. Continue along the Arthur Range to Crusa
 der. Return same way. If short of time, turn around at McMahon.\nif there i
 s sufficient interest, another possibility is to traverse the Arthur Range 
 between Mt Campbell and Flora Saddle, starting at both ends and doing a key
  swap.\n This event was imported from: https://live.nelsontrampingclub.org.
 nz/events/1392/mt-mcmahon-crusader?tmpl=component
X-ALT-DESC;FMTTYPE=text/html:<p>From Flora Saddle climb Lodestone. Continue along the Arthur Range to Cr
 usader. Return same way. If short of time, turn around at McMahon.</p><p>if
  there is sufficient interest, another possibility is to traverse the Arthu
 r Range between Mt Campbell and Flora Saddle, starting at both ends and doi
 ng a key swap.</p> <a href="https://live.nelsontrampingclub.org.nz/events/1
 392/mt-mcmahon-crusader?tmpl=component">This event was imported from: https
 ://live.nelsontrampingclub.org.nz/events/1392/mt-mcmahon-crusader?tmpl=comp
 onent</a>DTSTAMP:20260420T095809
DTSTART;VALUE=DATE:20240421
DTEND;VALUE=DATE:20240422
SEQUENCE:0
TRANSP:OPAQUE
END:VEVENT
END:VCALENDAR