BEGIN:VCALENDAR
VERSION:2.0
PRODID:-//jEvents 2.0 for Joomla//EN
CALSCALE:GREGORIAN
METHOD:PUBLISH
BEGIN:VEVENT
UID:0d7d2ec70910848399a03395735fc86f
CATEGORIES:Day Trip
CREATED:20240404T025801
SUMMARY:Brook-Third House-Fringed Hill circuit
URL;VALUE=URI:https://live.nelsontrampingclub.org.nz/events/1391/brook-third-house-fringe
 d-hill-circuit?tmpl=component
DESCRIPTION:There is some great country at our back door. Walk in off the street and ge
 t local! \nWe will start at the Brook St campground, splitting into two par
 ties. 1. Go via Brook Waimarama Sanctuary, entry fee $11. Up the Koru track
  and the wonderful Upper Valley track. Exit to Third House at Toutouwai gat
 e; 2. Alternatively, go outside the fence via the Classic road up to 4-Corn
 ers then on the Dun Mtn Walkway to Third House. Very similar time/effort bu
 t more nature in BWS. Then we continue together on the Dun Mtn Walkway to t
 he saddle under Wooded Peak. Take the track to left that goes along the spu
 r to Fringed Hill where there are excellent views of the city and bay beyon
 d. Then down another spur track to 4-Corners and back to the Brook via the 
 Classic. Nothing technical but beautiful country and vistas, and a good wor
 kout (ca 15km; 750m vertical).\n This event was imported from: https://live
 .nelsontrampingclub.org.nz/events/1391/brook-third-house-fringed-hill-circu
 it?tmpl=component
X-ALT-DESC;FMTTYPE=text/html:<p>There is some great country at our back door. Walk in off the street and
  get local!&nbsp;</p><p>We will start at the Brook St campground, splitting
  into two parties. 1. Go via Brook Waimarama Sanctuary, entry fee $11. Up t
 he Koru track and the wonderful Upper Valley track. Exit to Third House at 
 Toutouwai gate; 2. Alternatively, go outside the fence via the Classic road
  up to 4-Corners then on the Dun Mtn Walkway to Third House. Very similar t
 ime/effort but more nature in BWS. Then we continue together on the Dun Mtn
  Walkway to the saddle under Wooded Peak. Take the track to left that goes 
 along the spur to Fringed Hill where there are excellent views of the city 
 and bay beyond. Then down another spur track to 4-Corners and back to the B
 rook via the Classic. Nothing technical but beautiful country and vistas, a
 nd a good workout (ca 15km; 750m vertical).</p> <a href="https://live.nelso
 ntrampingclub.org.nz/events/1391/brook-third-house-fringed-hill-circuit?tmp
 l=component">This event was imported from: https://live.nelsontrampingclub.
 org.nz/events/1391/brook-third-house-fringed-hill-circuit?tmpl=component</a
 >DTSTAMP:20260420T142249
DTSTART;VALUE=DATE:20240414
DTEND;VALUE=DATE:20240415
SEQUENCE:0
TRANSP:OPAQUE
END:VEVENT
END:VCALENDAR