BEGIN:VCALENDAR
VERSION:2.0
PRODID:-//jEvents 2.0 for Joomla//EN
CALSCALE:GREGORIAN
METHOD:PUBLISH
BEGIN:VEVENT
UID:ae740ec9c41e50b8e91e42469818d6cc
CATEGORIES:Club Night
CREATED:20240315T065638
SUMMARY:Club night: AGM + Photo Competition
URL;VALUE=URI:https://live.nelsontrampingclub.org.nz/events/1387/club-night-agm-photo-com
 petition?tmpl=component
DESCRIPTION:TIME: 7:30pm, Monday 5 August.\nWHERE: Tahunanui Community Hub, 55 Muritai 
 Street, Tahunanui.\nCome to our club’s Annual General Meeting, (which is br
 ief) run by our President Graeme. You may wish to vote for new Committee me
 mbers.\nWe are honoured to have Peter Laurenson as the Judge. He is the edi
 tor of the FMC Backcountry bulletin. He will present all the winning images
 .\nPeter has been a judge for the FMC annual photo competition since 2019. 
 He currently judges the NZAC Nelson Marlborough Section photo comp.\nView P
 eter’s images, presented geographically as trip-based slideshows at www.occ
 asionalclimber.co.nz. (https://www.occasionalclimber.co.nz.)\nAlso on the s
 ite is a presentation about outdoor photography that might help to inspire 
 your creativity and entries to the competition: https://www.occasionalclimb
 er.co.nz/about-oc/my-thoughts-on-outdoor-photography/ (https://www.occasion
 alclimber.co.nz/about-oc/my-thoughts-on-outdoor-photography/)\nHOW TO ENTER
 :\n\nChoose your best JPEG photos (minimum 1000 pixels wide or more)\n• Max
 imum of 3 images per category. (Max. 21.) See below.\n• File names should i
 nclude: category entered / your name / a title. ( e.g. ABL_pholland_interes
 ting title.jpg )\n• Email images to Ray Salisbury: ray@hotpixels.co.nz (mai
 lto:ray@hotpixels.co.nz)\nCATEGORIES:\n1. ABN Above Bushline with NO human 
 element (nothing man-made)\n2. ABW Above Bushline WITH human element (e.g. 
 person,hut, etc.)\n3. BBN Below Bushline with NO human element\n4. BBW Belo
 w Bushline WITH human element\n5. NFF NATIVE Flora &amp; Fauna. NO human el
 ement\n6. HIS HISTORIC – Pre Jan 2021. May be from the club archives.\n7. L
 E LONG EXPOSURE – longer shutter speeds, inc. astro.\n8. OPEN – Anything go
 es: overseas snaps, cloning, humour, out-ofdate\nimages, etc. Break the rul
 es! This is a club category only.\nDeadline: Friday 26 July 2024 @ 6:00pm\n
 \nClub Rules:\nEach image must:\n• be taken by yourself – within New Zealan
 d. You must be a paid-up member of NTC,\n(which automatically qualifies you
  in the FMC competition.)\n• be shot during the past 12 months (i.e. since 
 the last competition in August 2023).\n• be shot in the wilderness. This co
 uld be on the coast, semi-rural or in the mountains.\n  Photographs do not 
 have to be taken on a club tramping trip.\n\nNote: Post processing can be a
 pplied (e.g. exposure &amp; colour correction, cropping, sharpening, etc.\n
 Panoramic stitching is allowed, plus HDR blending) Removal or insertion of 
 features not in the original image is not allowed.\nSee the PDF file for li
 st of prizes, etc. It was emailed to the membership in early July.\n This e
 vent was imported from: https://live.nelsontrampingclub.org.nz/events/1387/
 club-night-agm-photo-competition?tmpl=component
X-ALT-DESC;FMTTYPE=text/html:<p><strong>TIME:</strong> 7:30pm, Monday 5 August.<br /><strong>WHERE:</str
 ong> Tahunanui Community Hub, 55 Muritai Street, Tahunanui.</p><p>Come to o
 ur club’s Annual General Meeting, (which is brief) run by our President Gra
 eme. You may wish to vote for new Committee members.<br />We are honoured t
 o have <strong>Peter Laurenson</strong> as the Judge. He is the editor of t
 he FMC <em>Backcountry</em> bulletin. He will present all the winning image
 s.<br />Peter has been a judge for the FMC annual photo competition since 2
 019. He currently judges the NZAC Nelson Marlborough Section photo comp.</p
 ><p>View Peter’s images, presented geographically as trip-based slideshows 
 at <a href="https://www.occasionalclimber.co.nz." target="_blank" rel="noop
 ener">www.occasionalclimber.co.nz.</a><br />Also on the site is a presentat
 ion about outdoor photography that might help to inspire your creativity an
 d entries to the competition: <a href="https://www.occasionalclimber.co.nz/
 about-oc/my-thoughts-on-outdoor-photography/" target="_blank" rel="noopener
 ">https://www.occasionalclimber.co.nz/about-oc/my-thoughts-on-outdoor-photo
 graphy/</a></p><p><strong>HOW TO ENTER:<br /></strong><br />Choose your bes
 t JPEG photos (minimum 1000 pixels wide or more)<br />• Maximum of 3 images
  per category. (Max. 21.) See below.<br />• File names should include: cate
 gory entered / your name / a title. ( e.g. ABL_pholland_interesting title.j
 pg )<br />• Email images to Ray Salisbury: <a href="mailto:ray@hotpixels.co
 .nz">ray@hotpixels.co.nz</a></p><p><strong>CATEGORIES:</strong></p><p><stro
 ng>1. ABN Above Bushline with NO human element</strong> (nothing man-made)<
 strong><br />2. ABW Above Bushline WITH human element </strong>(e.g. person
 ,hut, etc.)<strong><br />3. BBN Below Bushline with NO human element<br />4
 . BBW Below Bushline WITH human element<br />5. NFF NATIVE Flora &amp; Faun
 a.</strong> NO human element<strong><br />6. HIS HISTORIC </strong>– Pre Ja
 n 2021. May be from the club archives.<strong><br />7. LE LONG EXPOSURE </s
 trong>– longer shutter speeds, inc. astro.<strong><br />8. OPEN</strong> – 
 Anything goes: overseas snaps, cloning, humour, out-ofdate<br />images, etc
 . Break the rules! This is a club category only.</p><p><strong>Deadline:</s
 trong> Friday 26 July 2024 @ 6:00pm<br /><br /><strong>Club Rules</strong>:
 </p><p><em>Each image must:</em><br />• be taken by yourself – within New Z
 ealand. You must be a paid-up member of NTC,<br />(which automatically qual
 ifies you in the FMC competition.)<br />• be shot during the past 12 months
  (i.e. since the last competition in August 2023).<br />• be shot in the wi
 lderness. This could be on the coast, semi-rural or in the mountains.<br />
 &nbsp; Photographs do not have to be taken on a club tramping trip.<br /><s
 trong><br />Note:</strong> Post processing can be applied (e.g. exposure &a
 mp; colour correction, cropping, sharpening, etc.<br />Panoramic stitching 
 is allowed, plus HDR blending) Removal or insertion of features not in the 
 original image is not allowed.</p><p>See the <strong>PDF file</strong> for 
 list of prizes, etc. It was emailed to the membership in early July.</p> <a
  href="https://live.nelsontrampingclub.org.nz/events/1387/club-night-agm-ph
 oto-competition?tmpl=component">This event was imported from: https://live.
 nelsontrampingclub.org.nz/events/1387/club-night-agm-photo-competition?tmpl
 =component</a>DTSTAMP:20260420T132756
DTSTART;VALUE=DATE:20240805
DTEND;VALUE=DATE:20240806
SEQUENCE:0
TRANSP:OPAQUE
END:VEVENT
END:VCALENDAR