BEGIN:VCALENDAR
VERSION:2.0
PRODID:-//jEvents 2.0 for Joomla//EN
CALSCALE:GREGORIAN
METHOD:PUBLISH
BEGIN:VEVENT
UID:b5dc0cf181c574e782c3e9868ef4ab5b
CATEGORIES:Club Night
CREATED:20240315T065240
SUMMARY:Club Night - Quiz night
URL;VALUE=URI:https://live.nelsontrampingclub.org.nz/events/1385/club-night-quiz-night?tm
 pl=component
DESCRIPTION:<p>Club Quiz night at the Underwater Club. From 7pm for a 7.30 start.</p><p
 >Master of Ceremonies:- Brian Renwick with a wide range of. questions to te
 st your knowledge.</p><p>Come along to a fun night and bring your friends. 
 Each table will be a "team"</p><p>Not quite a Pub Raffle, but ........ Brin
 g your own Nibbles and Drinks {<strong>AND a Pencil and Paper}</strong></p>
 <p>Coffee and Tea provided.</p><p>Gold Coin entry. See you there.</p><table
  border='0'><tr><td class='label'>Trip Leader : </td><td><div class="jev_cf
 user_profile"><div class="jev_cfuser_name">Michele Cunningham</div></div>\n
 </td></tr><tr><td class='label'>Phone : </td><td>021 537 421 \n</td></tr><t
 r><td class='label'>Email : </td><td><joomla-hidden-mail  is-link="1" is-em
 ail="0" first="bWljaGVsZWMxNDY=" last="Z21haWwuY29t" text="bWljaGVsZWMxNDZA
 Z21haWwuY29t" base="" >This email address is being protected from spambots.
  You need JavaScript enabled to view it.</joomla-hidden-mail>\n</td></tr><t
 r><td class='label'>Area : </td><td>Select an Area\n</td></tr><tr><td class
 ='label'>Panic Date : </td><td>15-03-2024\n</td></tr><tr><td class='label'>
 Grading : </td><td>Select an appropriate grade for the hardest day on your 
 Trip.\n</td></tr><tr><td class='label'>Grade : </td><td>N/A\n</td></tr><tr>
 <td class='label'>Cost : </td><td>The travel distances are used to calculat
 e the cost of a trip. The trip co-ordinator will complete these values. How
 ever, if you know the values, for example by using Google Maps, then by all
  means complete. Make sure the values (double to include return journey) ar
 e correct to be fair to the drivers and participants. IMPORTANT: The rate t
 able needs to have a month and year value for cents/kilometre. Trip coordin
 ator is responsible to entering this information.\n</td></tr><tr><td class=
 'label'>Sealed km (Enter the number of kms travelled on sealed roads to/fro
 m the trip) : </td><td>0\n</td></tr><tr><td class='label'>Unsealed km (Ente
 r the number of kms travelled on unsealed roads to/from trip.) : </td><td>0
 \n</td></tr><tr><td class='label'>Signoff : </td><td>Default is Programme, 
 please set the Status to either 'Completed' or 'Cancelled' when appropriate
 . Also enter the number of Visitor and Total numbers on your trip. Thanks. 
 NOTE: When the status is Completed or Cancelled the event WON'T appear on t
 he Home page calendars.\n</td></tr><tr><td class='label'>Event Status : </t
 d><td>Completed\n</td></tr></table> <a href="https://live.nelsontrampingclu
 b.org.nz/events/1385/club-night-quiz-night?tmpl=component">This event was i
 mported from: https://live.nelsontrampingclub.org.nz/events/1385/club-night
 -quiz-night?tmpl=component</a>DTSTAMP:20260420T152020
DTSTART;VALUE=DATE:20240408
DTEND;VALUE=DATE:20240409
SEQUENCE:0
TRANSP:OPAQUE
END:VEVENT
END:VCALENDAR