BEGIN:VCALENDAR
VERSION:2.0
PRODID:-//jEvents 2.0 for Joomla//EN
CALSCALE:GREGORIAN
METHOD:PUBLISH
BEGIN:VEVENT
UID:8fc9b5c14a4744b0aa4c364c4715bd5c
CATEGORIES:Summer Hill Series
CREATED:20240217T185024
SUMMARY:Scout Track/Involution MTB Trail
URL;VALUE=URI:https://live.nelsontrampingclub.org.nz/events/1376/scout-track-involution-m
 tb-trail?tmpl=component
DESCRIPTION:<p>Assemble at Marsden Valley carpark at the road end at 5:30pm. Walk up th
 e 4wd road to the Involution MTB trail start. Option 1: walk up Involution 
 Trail. Option 2: Those who are feeling energetic continue up to the ford an
 d steeply up Scout Track to the intersection with Involution, then either w
 ait for party 1 or descend Involution to them. Either descend to the carpar
 k or continue further up before descending.</p><p>Grade is easy/moderate fo
 r Involution; fit for Scout Track.</p><p>No booking - just turn up.</p> <a 
 href="https://live.nelsontrampingclub.org.nz/events/1376/scout-track-involu
 tion-mtb-trail?tmpl=component">This event was imported from: https://live.n
 elsontrampingclub.org.nz/events/1376/scout-track-involution-mtb-trail?tmpl=
 component</a>DTSTAMP:20260420T095808
DTSTART;VALUE=DATE:20240221
DTEND;VALUE=DATE:20240222
SEQUENCE:0
TRANSP:OPAQUE
END:VEVENT
END:VCALENDAR