BEGIN:VCALENDAR
VERSION:2.0
PRODID:-//jEvents 2.0 for Joomla//EN
CALSCALE:GREGORIAN
METHOD:PUBLISH
BEGIN:VEVENT
UID:aa9776ad01ed25178103affe4623af0c
CATEGORIES:Day Trip
CREATED:20240124T063448
SUMMARY:Mt Arthur via Clouston mine circuit
URL;VALUE=URI:https://live.nelsontrampingclub.org.nz/events/1369/mt-arthur-via-clouston-m
 ine-circuit?tmpl=component
DESCRIPTION:Let's summit Mt Arthur via the long way for a change, as a side trip of the
  Clouston Mine Circuit. Might be a bit ambitious, but do-able. Long day, bu
 t satisfying. We could split the group if there are enough people: One fast
 er group includes the summit, the slower group walks just the mine circuit.
  Probably up to 9 or 10 hrs if summit is included. Early start, from Flora 
 carpark past Flora Hut, up Clouston Mine track, Gordons Pyramid, Horseshoe 
 Basin, Mt Arthur, Mt Arthur Hut, loop back to Flora Carpark.\n This event w
 as imported from: https://live.nelsontrampingclub.org.nz/events/1369/mt-art
 hur-via-clouston-mine-circuit?tmpl=component
X-ALT-DESC;FMTTYPE=text/html:<p>Let's summit Mt Arthur via the long way for a change, as a side trip of 
 the Clouston Mine Circuit. Might be a bit ambitious, but do-able. Long day,
  but satisfying. We could split the group if there are enough people: One f
 aster group includes the summit, the slower group walks just the mine circu
 it. Probably up to 9 or 10 hrs if summit is included. Early start, from Flo
 ra carpark past Flora Hut, up Clouston Mine track, Gordons Pyramid, Horsesh
 oe Basin, Mt Arthur, Mt Arthur Hut, loop back to Flora Carpark.</p> <a href
 ="https://live.nelsontrampingclub.org.nz/events/1369/mt-arthur-via-clouston
 -mine-circuit?tmpl=component">This event was imported from: https://live.ne
 lsontrampingclub.org.nz/events/1369/mt-arthur-via-clouston-mine-circuit?tmp
 l=component</a>DTSTAMP:20260420T101458
DTSTART;VALUE=DATE:20240225
DTEND;VALUE=DATE:20240226
SEQUENCE:0
TRANSP:OPAQUE
END:VEVENT
END:VCALENDAR