BEGIN:VCALENDAR
VERSION:2.0
PRODID:-//jEvents 2.0 for Joomla//EN
CALSCALE:GREGORIAN
METHOD:PUBLISH
BEGIN:VEVENT
UID:62ce2ebcbf8af824ec137cbdd9b0bd53
CATEGORIES:Club Night
CREATED:20240115T084954
SUMMARY:Club night - Show and Tell
URL;VALUE=URI:https://live.nelsontrampingclub.org.nz/events/1365/club-night-show-and-tell
 ?tmpl=component
DESCRIPTION:Club Night - Show and Tell\nNelson Underwater Club (formally SeniorNet) - P
 ioneer Park, Nelson\nDoors open at 7pm for a cuppa, presentation starts at 
 7:30pm. Gold coin donation for hall hire.\nThis is our first club night of 
 the year, where members have an opportunity to give a short presentation ab
 out their summer adventures.  Come along to be inspired by others' adventur
 es, or better still, present one yourself!  If you are interested in presen
 ting, please email Michele on This email address is being protected from sp
 ambots. You need JavaScript enabled to view it.. \n This event was imported
  from: https://live.nelsontrampingclub.org.nz/events/1365/club-night-show-a
 nd-tell?tmpl=component
X-ALT-DESC;FMTTYPE=text/html:<p><strong>Club Night - Show and Tell</strong></p><p>Nelson Underwater Club
  (formally SeniorNet) - Pioneer Park, Nelson</p><p>Doors open at 7pm for a 
 cuppa, presentation starts at 7:30pm. Gold coin donation for hall hire.</p>
 <p>This is our first club night of the year, where members have an opportun
 ity to give a short presentation about their summer adventures.&nbsp; Come 
 along to be inspired by others' adventures, or better still, present one yo
 urself!&nbsp; If you are interested in presenting, please email Michele on 
 <joomla-hidden-mail  is-link="1" is-email="1" first="c2VjcmV0YXJ5Lm5lbHNvbn
 RyYW1waW5n" last="Z21haWwuY29t" text="c2VjcmV0YXJ5Lm5lbHNvbnRyYW1waW5nQGdtY
 WlsLmNvbQ==" base="" >This email address is being protected from spambots. 
 You need JavaScript enabled to view it.</joomla-hidden-mail>.&nbsp;</p> <a 
 href="https://live.nelsontrampingclub.org.nz/events/1365/club-night-show-an
 d-tell?tmpl=component">This event was imported from: https://live.nelsontra
 mpingclub.org.nz/events/1365/club-night-show-and-tell?tmpl=component</a>DTSTAMP:20260424T100201
DTSTART;VALUE=DATE:20240212
DTEND;VALUE=DATE:20240213
SEQUENCE:0
TRANSP:OPAQUE
END:VEVENT
END:VCALENDAR