BEGIN:VCALENDAR
VERSION:2.0
PRODID:-//jEvents 2.0 for Joomla//EN
CALSCALE:GREGORIAN
METHOD:PUBLISH
BEGIN:VEVENT
UID:ba15b6b2d439a1e2168abc6c78023b56
CATEGORIES:Day Trip
CREATED:20240114T050910
SUMMARY:Different perspective on the Hacket
URL;VALUE=URI:https://live.nelsontrampingclub.org.nz/events/1364/different-perspective-on
 -the-hacket?tmpl=component
DESCRIPTION:Walk in to Hacket Hut, drop into the creek and follow back to the carpark. 
 Gorges, waterfalls, deep pools and more crossings than the Hodder. An hour 
 and a bit into the hut and 3 to 4 hours back out. Bring sturdy shoes you do
 n't mind getting wet and a trekking pole for balance. Need a fine warm day 
 and low water flow.\n This event was imported from: https://live.nelsontram
 pingclub.org.nz/events/1364/different-perspective-on-the-hacket?tmpl=compon
 ent
X-ALT-DESC;FMTTYPE=text/html:<p>Walk in to Hacket Hut, drop into the creek and follow back to the carpar
 k. Gorges, waterfalls, deep pools and more crossings than the Hodder. An ho
 ur and a bit into the hut and 3 to 4 hours back out. Bring sturdy shoes you
  don't mind getting wet and a trekking pole for balance.&nbsp;Need a fine w
 arm day and low water flow.</p> <a href="https://live.nelsontrampingclub.or
 g.nz/events/1364/different-perspective-on-the-hacket?tmpl=component">This e
 vent was imported from: https://live.nelsontrampingclub.org.nz/events/1364/
 different-perspective-on-the-hacket?tmpl=component</a>DTSTAMP:20260420T095809
DTSTART;VALUE=DATE:20240211
DTEND;VALUE=DATE:20240212
SEQUENCE:0
TRANSP:OPAQUE
END:VEVENT
END:VCALENDAR