BEGIN:VCALENDAR
VERSION:2.0
PRODID:-//jEvents 2.0 for Joomla//EN
CALSCALE:GREGORIAN
METHOD:PUBLISH
BEGIN:VEVENT
UID:fcba71c0ecf280487a7acd6a4a703ac5
CATEGORIES:Summer Hill Series
CREATED:20240106T070729
SUMMARY:Washbourn Gardens to Grassy Saddle via Jimmy Lee Creek - Summer Hill Series 
URL;VALUE=URI:https://live.nelsontrampingclub.org.nz/events/1362/washbourn-gardens-to-gra
 ssy-saddle-via-jimmy-lee-creek-summer-hill-series?tmpl=component
DESCRIPTION:Meet at Washbourn Gardens carpark in Oxford St Richmond at 5:30pm. Follow J
  L Creek through Bill Wilkes Reserve to Hunter Ave. Turn left up Hunter Ave
  for 100m or so then take the pedestrian walkway to Hill St and Jimmy Lee C
 reek Reserve. Climb the track up the creek to Grassy Saddle then either ret
 urn same way or descend Wills Gully Track to Hill Street and walk about 1km
  back up Hill St to the walkway and back to W G carpark. About 3km to Grass
 y Saddle and 220m climb.\nNo need to register, just turn up.\n This event w
 as imported from: https://live.nelsontrampingclub.org.nz/events/1362/washbo
 urn-gardens-to-grassy-saddle-via-jimmy-lee-creek-summer-hill-series?tmpl=co
 mponent
X-ALT-DESC;FMTTYPE=text/html:<p>Meet at Washbourn Gardens carpark in Oxford St Richmond at 5:30pm. Follo
 w J L Creek through Bill Wilkes Reserve to Hunter Ave. Turn left up Hunter 
 Ave for 100m or so then take the pedestrian walkway to Hill St and Jimmy Le
 e Creek Reserve. Climb the track up the creek to Grassy Saddle then either 
 return same way or descend Wills Gully Track to Hill Street and walk about 
 1km back up Hill St to the walkway and back to W G carpark. About 3km to Gr
 assy Saddle and 220m climb.</p><p>No need to register, just turn up.</p> <a
  href="https://live.nelsontrampingclub.org.nz/events/1362/washbourn-gardens
 -to-grassy-saddle-via-jimmy-lee-creek-summer-hill-series?tmpl=component">Th
 is event was imported from: https://live.nelsontrampingclub.org.nz/events/1
 362/washbourn-gardens-to-grassy-saddle-via-jimmy-lee-creek-summer-hill-seri
 es?tmpl=component</a>DTSTAMP:20260420T102237
DTSTART;VALUE=DATE:20240110
DTEND;VALUE=DATE:20240111
SEQUENCE:0
TRANSP:OPAQUE
END:VEVENT
END:VCALENDAR