BEGIN:VCALENDAR
VERSION:2.0
PRODID:-//jEvents 2.0 for Joomla//EN
CALSCALE:GREGORIAN
METHOD:PUBLISH
BEGIN:VEVENT
UID:561d8bc354423606e705ba1821fadffe
CATEGORIES:Day Trip
CREATED:20231221T035846
SUMMARY:Flora Hut Clean-up
URL;VALUE=URI:https://live.nelsontrampingclub.org.nz/events/1361/flora-hut-clean-up?tmpl=
 component
DESCRIPTION:<p>&nbsp;Clean-upFlora Hut and Reinstate the water supply for the summer ho
 lidays</p> <a href="https://live.nelsontrampingclub.org.nz/events/1361/flor
 a-hut-clean-up?tmpl=component">This event was imported from: https://live.n
 elsontrampingclub.org.nz/events/1361/flora-hut-clean-up?tmpl=component</a>DTSTAMP:20260420T160254
DTSTART;VALUE=DATE:20231130
DTEND;VALUE=DATE:20231201
SEQUENCE:0
TRANSP:OPAQUE
END:VEVENT
END:VCALENDAR