BEGIN:VCALENDAR
VERSION:2.0
PRODID:-//jEvents 2.0 for Joomla//EN
CALSCALE:GREGORIAN
METHOD:PUBLISH
BEGIN:VEVENT
UID:874f21a5a65620c43f9948bf63b6e678
CATEGORIES:Summer Hill Series
CREATED:20231217T102214
SUMMARY:Wednesday Walk
URL;VALUE=URI:https://live.nelsontrampingclub.org.nz/events/1360/wednesday-walk?tmpl=comp
 onent
DESCRIPTION:Wednesday walk up the Grampians\nMeet at market road entrance for 5.30pm de
 parture. Walk is 1.5 hrs return, depending how fast we walk.\nAll welcome. 
 No need to book. \n This event was imported from: https://live.nelsontrampi
 ngclub.org.nz/events/1360/wednesday-walk?tmpl=component
X-ALT-DESC;FMTTYPE=text/html:<p>Wednesday walk up the Grampians</p><p>Meet at market road entrance for 5
 .30pm departure. Walk is 1.5 hrs return, depending how fast we walk.</p><p>
 All welcome. No need to book.&nbsp;</p> <a href="https://live.nelsontrampin
 gclub.org.nz/events/1360/wednesday-walk?tmpl=component">This event was impo
 rted from: https://live.nelsontrampingclub.org.nz/events/1360/wednesday-wal
 k?tmpl=component</a>DTSTAMP:20260420T155942
DTSTART;VALUE=DATE:20231220
DTEND;VALUE=DATE:20231221
SEQUENCE:0
TRANSP:OPAQUE
END:VEVENT
END:VCALENDAR