BEGIN:VCALENDAR
VERSION:2.0
PRODID:-//jEvents 2.0 for Joomla//EN
CALSCALE:GREGORIAN
METHOD:PUBLISH
BEGIN:VEVENT
UID:73fede7b43042afe1338025ccd2ac718
CATEGORIES:Summer Hill Series
CREATED:20231202T000123
SUMMARY:Wednesday walk
URL;VALUE=URI:https://live.nelsontrampingclub.org.nz/events/1358/wednesday-walk?tmpl=comp
 onent
DESCRIPTION:Hills around Washington Valley, Nelson.  Meet at Mt Vernon Place (off Washi
 ngton Road - plenty of parking) at 5.30pm for a mix of on-road and off-road
  walking.  Walk up to the top of the Port Hills, down into Toi Toi, up agai
 n and then down back to the start.  About 1 - 1.5hrs .  Booking not require
 d - just turn up. \nTrip leader - Rosie-Anne\n This event was imported from
 : https://live.nelsontrampingclub.org.nz/events/1358/wednesday-walk?tmpl=co
 mponent
X-ALT-DESC;FMTTYPE=text/html:<p>Hills around Washington Valley, Nelson.&nbsp; Meet at Mt Vernon Place (o
 ff Washington Road - plenty of parking) at 5.30pm for a mix of on-road and 
 off-road walking.&nbsp; Walk up to the top of the Port Hills, down into Toi
  Toi, up again and then down back to the start.&nbsp; About 1 - 1.5hrs .&nb
 sp; Booking not required - just turn up.&nbsp;</p><p>Trip leader - Rosie-An
 ne</p> <a href="https://live.nelsontrampingclub.org.nz/events/1358/wednesda
 y-walk?tmpl=component">This event was imported from: https://live.nelsontra
 mpingclub.org.nz/events/1358/wednesday-walk?tmpl=component</a>DTSTAMP:20260420T160055
DTSTART:20231206T053000
SEQUENCE:0
TRANSP:OPAQUE
END:VEVENT
END:VCALENDAR