BEGIN:VCALENDAR
VERSION:2.0
PRODID:-//jEvents 2.0 for Joomla//EN
CALSCALE:GREGORIAN
METHOD:PUBLISH
BEGIN:VEVENT
UID:c77a076e31b0daf7472805aec2009ad4
CATEGORIES:Day Trip
CREATED:20231101T101905
SUMMARY:Speed tramp NLNP
URL;VALUE=URI:https://live.nelsontrampingclub.org.nz/events/1324/speed-tramp-nlnp?tmpl=co
 mponent
DESCRIPTION:<p>If anyone fancies dusting off their running shoes and joining me in a sp
 eed tramp of the Mount Robert Loop, please get in touch, 02108249260. If fe
 eling inclined, and energy allows, could also do the climb up to Saint Arna
 ud Range via Parachute Rocks after lunch.</p><p>Alternative day is Sunday, 
 if desired.</p> <a href="https://live.nelsontrampingclub.org.nz/events/1324
 /speed-tramp-nlnp?tmpl=component">This event was imported from: https://liv
 e.nelsontrampingclub.org.nz/events/1324/speed-tramp-nlnp?tmpl=component</a>DTSTAMP:20260420T160254
DTSTART;VALUE=DATE:20231111
DTEND;VALUE=DATE:20231112
SEQUENCE:0
TRANSP:OPAQUE
END:VEVENT
END:VCALENDAR