BEGIN:VCALENDAR
VERSION:2.0
PRODID:-//jEvents 2.0 for Joomla//EN
CALSCALE:GREGORIAN
METHOD:PUBLISH
BEGIN:VEVENT
UID:fdca1ab01855f33fa30936445ec49755
CATEGORIES:Overnight Trip
CREATED:20231025T012750
SUMMARY:Coldwater Hut - Kids/G'kids
URL;VALUE=URI:https://live.nelsontrampingclub.org.nz/events/1322/coldwater-hut-kids-g-kid
 s?tmpl=component
DESCRIPTION:NOTE: I will no tbe able to respond to any inquiries about this trip until 
 Wed 3rd Jan as I am away tramping.\nEnjoy an easy tramp  to Coldwater Hut. 
 Walk or boat 1 or both ways - options depending on skills. \nMy son will ha
 ve his boat and can transport a few to or from the hut.\nTake tents to add 
 to the fun factor.\n This event was imported from: https://live.nelsontramp
 ingclub.org.nz/events/1322/coldwater-hut-kids-g-kids?tmpl=component
X-ALT-DESC;FMTTYPE=text/html:<p>NOTE: I will no tbe able to respond to any inquiries about this trip unt
 il Wed 3rd Jan as I am away tramping.</p><p>Enjoy an easy tramp&nbsp; to Co
 ldwater Hut. Walk or boat 1 or both ways - options depending on skills.&nbs
 p;</p><p>My son will have his boat and can transport a few to or from the h
 ut.</p><p>Take tents to add to the fun factor.</p> <a href="https://live.ne
 lsontrampingclub.org.nz/events/1322/coldwater-hut-kids-g-kids?tmpl=componen
 t">This event was imported from: https://live.nelsontrampingclub.org.nz/eve
 nts/1322/coldwater-hut-kids-g-kids?tmpl=component</a>DTSTAMP:20260420T132815
DTSTART;VALUE=DATE:20240106
DTEND;VALUE=DATE:20240108
SEQUENCE:0
TRANSP:OPAQUE
END:VEVENT
END:VCALENDAR