BEGIN:VCALENDAR
VERSION:2.0
PRODID:-//jEvents 2.0 for Joomla//EN
CALSCALE:GREGORIAN
METHOD:PUBLISH
BEGIN:VEVENT
UID:da2402757f9f69e86ec78ab7a3a637d5
CATEGORIES:Day Trip
CREATED:20231021T021822
SUMMARY:Bryant Range viewpoint
URL;VALUE=URI:https://live.nelsontrampingclub.org.nz/events/1321/bryant-range-viewpoint?t
 mpl=component
DESCRIPTION:SORRY, I had to change the date, I hope that the people that pre-registered
  can still make it.\nDay trip to a clearing on the ridgeline of the Bryant 
 Range to admire the view.\nThis clearing is an isolated part of the mineral
  belt and is clearly visible driving towards Blenheim before the Whangamoa 
 saddle looking East on the ridgeline.\nLeave Nelson at 8.30, park at the Wh
 angamoa saddle and follow Central road for 2 km, then is bushbashing in nat
 ive forest until point 1066 m, then down the ridge to the clearing and hope
 fully a nice view.\n11 km return, 1100 m total vertical, 7 hours return\nRe
 turn the same way.\nLimited water along the way, dense bush, come if you ar
 e fit and have a spirit of adventure. Recommended: gators, gloves and safet
 y goggles.\nWill go ahead only with good weather forecasts.\n This event wa
 s imported from: https://live.nelsontrampingclub.org.nz/events/1321/bryant-
 range-viewpoint?tmpl=component
X-ALT-DESC;FMTTYPE=text/html:<p>SORRY, I had to change the date, I hope that the people that pre-registe
 red can still make it.</p><p>Day trip to a clearing on the ridgeline of the
  Bryant Range to admire the view.</p><p>This clearing is an isolated part o
 f the mineral belt and is clearly visible driving towards Blenheim before t
 he Whangamoa saddle looking East on the ridgeline.</p><p>Leave Nelson at 8.
 30, park at the Whangamoa saddle and follow Central road for 2 km, then is 
 bushbashing in native forest until point 1066 m, then down the ridge to the
  clearing and hopefully a nice view.</p><p>11 km return, 1100 m total verti
 cal, 7 hours return</p><p>Return the same way.</p><p>Limited water along th
 e way, dense bush, come if you are fit and have a spirit of adventure. Reco
 mmended: gators, gloves and safety goggles.</p><p>Will go ahead only with g
 ood weather forecasts.</p> <a href="https://live.nelsontrampingclub.org.nz/
 events/1321/bryant-range-viewpoint?tmpl=component">This event was imported 
 from: https://live.nelsontrampingclub.org.nz/events/1321/bryant-range-viewp
 oint?tmpl=component</a>DTSTAMP:20260420T160023
DTSTART;VALUE=DATE:20231118
DTEND;VALUE=DATE:20231119
SEQUENCE:0
TRANSP:OPAQUE
END:VEVENT
END:VCALENDAR