BEGIN:VCALENDAR
VERSION:2.0
PRODID:-//jEvents 2.0 for Joomla//EN
CALSCALE:GREGORIAN
METHOD:PUBLISH
BEGIN:VEVENT
UID:b8dd4437fc8a983e86807ea33da1c24a
CATEGORIES:Extended Trip
CREATED:20230817T035640
SUMMARY:Waitangi Weekend: Jollie Brook Circuit, Lake Sumner
URL;VALUE=URI:https://live.nelsontrampingclub.org.nz/events/1316/waitangi-weekend-jollie-
 brook-circuit,-lake-sumner?tmpl=component
DESCRIPTION:Easy 3-4 day riverside ramble in North Canterbury hills, following streams 
 and flats. A good leg-stretcher. (Could easily be done in 3 days, depending
  on WX forecast, and fitness.)\nDAY 1: Drive SH7 to Culverden, Hawarden, th
 en inland up Lake Sumner Road along the Hurunui Stream. (5-6 hrs). Overnigh
 t at Lake Taylor. Explore this locale.\nDAY 2: RE-locate cars. Walk from th
 e Sisters Swingbridge; 3 hours to Gabriel Hut (4 bunks, free) then on to Jo
 llie Brook Hut (7 bunks, $5/ea) = 4.5 hours total, plus detour to visit Lak
 e Sumner (30mins return).\nDAY 3: Jollie Brook Hut downstream to junction, 
 then upstream to Cold Stream Hut (6 bunks) = 3 hours, inc. "frequent stream
  crossings."\nDAY 4: Cold Stream Hut out to Jollie Brook Stream, then acros
 s flats to Sisters Swingbridge = 4 hours. Drive home via hot springs or cof
 fee shops :-)\nTotal distance: 36km loop. Map: BU23.\nSee DOC website: http
 s://www.doc.govt.nz/parks-and-recreation/places-to-go/canterbury/places/lak
 e-sumner-forest-park/things-to-do/huts/jolliebrook-hut/ (https://www.doc.go
 vt.nz/parks-and-recreation/places-to-go/canterbury/places/lake-sumner-fores
 t-park/things-to-do/huts/jolliebrook-hut/)\n \n This event was imported fro
 m: https://live.nelsontrampingclub.org.nz/events/1316/waitangi-weekend-joll
 ie-brook-circuit,-lake-sumner?tmpl=component
X-ALT-DESC;FMTTYPE=text/html:<p><strong>Easy 3-4 day riverside ramble</strong> in North Canterbury hills
 , following streams and flats. A good leg-stretcher. (Could easily be done 
 in 3 days, depending on WX forecast, and fitness.)</p><p><strong>DAY 1: </s
 trong>Drive SH7 to Culverden, Hawarden, then inland up Lake Sumner Road alo
 ng the Hurunui Stream. (5-6 hrs). Overnight at Lake Taylor. Explore this lo
 cale.</p><p><strong>DAY 2: </strong>RE-locate cars. Walk from the Sisters S
 wingbridge; 3 hours to Gabriel Hut (4 bunks, free) then on to Jollie Brook 
 Hut (7 bunks, $5/ea) = 4.5 hours total, plus detour to visit Lake Sumner (3
 0mins return).</p><p><strong>DAY 3:</strong> Jollie Brook Hut downstream to
  junction, then upstream to Cold Stream Hut (6 bunks) = 3 hours, inc. "freq
 uent stream crossings."</p><p><strong>DAY 4:</strong> Cold Stream Hut out t
 o Jollie Brook Stream, then across flats to Sisters Swingbridge = 4 hours. 
 Drive home via hot springs or coffee shops :-)</p><p>Total distance: 36km l
 oop. Map: BU23.</p><p>See DOC website: <a href="https://www.doc.govt.nz/par
 ks-and-recreation/places-to-go/canterbury/places/lake-sumner-forest-park/th
 ings-to-do/huts/jolliebrook-hut/">https://www.doc.govt.nz/parks-and-recreat
 ion/places-to-go/canterbury/places/lake-sumner-forest-park/things-to-do/hut
 s/jolliebrook-hut/</a></p><p><strong>&nbsp;</strong></p> <a href="https://l
 ive.nelsontrampingclub.org.nz/events/1316/waitangi-weekend-jollie-brook-cir
 cuit,-lake-sumner?tmpl=component">This event was imported from: https://liv
 e.nelsontrampingclub.org.nz/events/1316/waitangi-weekend-jollie-brook-circu
 it,-lake-sumner?tmpl=component</a>DTSTAMP:20260420T125555
DTSTART;VALUE=DATE:20240203
DTEND;VALUE=DATE:20240207
SEQUENCE:0
TRANSP:OPAQUE
END:VEVENT
END:VCALENDAR