BEGIN:VCALENDAR
VERSION:2.0
PRODID:-//jEvents 2.0 for Joomla//EN
CALSCALE:GREGORIAN
METHOD:PUBLISH
BEGIN:VEVENT
UID:115154720cb2eac71c90665d38ec4488
CATEGORIES:Day Trip
CREATED:20230811T085226
SUMMARY:Gordons Knob
URL;VALUE=URI:https://live.nelsontrampingclub.org.nz/events/1308/gordons-knob?tmpl=compon
 ent
DESCRIPTION:Gordons Knob from Inwood Lookout\nDrive up to Inwood Lookout at just over 1
 000m.  A ridge walk to Gordon Range and across to Gordons Knob (1592m) and/
 or the unnamed higher peak (1685m) for some spectacular views weather permi
 tting.  Return the same way after lunch. Approx 11km return. \n4WD vehicles
  preferred for the road to Inwood Lookout. \n This event was imported from:
  https://live.nelsontrampingclub.org.nz/events/1308/gordons-knob?tmpl=compo
 nent
X-ALT-DESC;FMTTYPE=text/html:<p><strong>Gordons Knob from Inwood Lookout</strong></p><p>Drive up to Inwo
 od Lookout at just over 1000m.&nbsp; A ridge walk to Gordon Range and acros
 s to Gordons Knob (1592m) and/or the unnamed higher peak (1685m) for some s
 pectacular views weather permitting.&nbsp; Return the same way after lunch.
  Approx 11km return.&nbsp;</p><p>4WD vehicles preferred for the road to Inw
 ood Lookout.&nbsp;</p> <a href="https://live.nelsontrampingclub.org.nz/even
 ts/1308/gordons-knob?tmpl=component">This event was imported from: https://
 live.nelsontrampingclub.org.nz/events/1308/gordons-knob?tmpl=component</a>DTSTAMP:20260420T104012
DTSTART;VALUE=DATE:20240121
DTEND;VALUE=DATE:20240122
SEQUENCE:0
TRANSP:OPAQUE
END:VEVENT
END:VCALENDAR