BEGIN:VCALENDAR
VERSION:2.0
PRODID:-//jEvents 2.0 for Joomla//EN
CALSCALE:GREGORIAN
METHOD:PUBLISH
BEGIN:VEVENT
UID:05e1196d502eb983f63067707a42acb8
CATEGORIES:Day Trip
CREATED:20230810T045730
SUMMARY:Lower Travers Valley
URL;VALUE=URI:https://live.nelsontrampingclub.org.nz/events/1307/lower-travers-valley?tmp
 l=component
DESCRIPTION:<p>Take the water taxi to Coldwater hut. Walk on the West of the Traverse r
 iver to the bridge over Travers River and back on the East side to Lakehead
  hut. This will be a 3 to 4 hour walk. For those who want to do a full days
  worth of tramping, there is the possibility to walk back on the East side 
 of the lake to Kerr Bay. This will be decided closer to the date but some o
 f the participants are opting for a shorter day. The trip leader will arran
 ge transport on the lake. It will depend on the final number of participant
 s whether it is possible to take a ferry (going 2x a day) or taxi. Cost:</p
 ><p><b>One Way:</b>&nbsp;Adults $35 | Children $20&nbsp;<br /><b>Return Sam
 e Day, Different Service:</b>&nbsp;Adults $50 | Children $25</p><p>Fuel cos
 t (car pooling) will be calculated separately</p> <a href="https://live.nel
 sontrampingclub.org.nz/events/1307/lower-travers-valley?tmpl=component">Thi
 s event was imported from: https://live.nelsontrampingclub.org.nz/events/13
 07/lower-travers-valley?tmpl=component</a>DTSTAMP:20260420T095846
DTSTART;VALUE=DATE:20240218
DTEND;VALUE=DATE:20240219
SEQUENCE:0
TRANSP:OPAQUE
END:VEVENT
END:VCALENDAR