BEGIN:VCALENDAR
VERSION:2.0
PRODID:-//jEvents 2.0 for Joomla//EN
CALSCALE:GREGORIAN
METHOD:PUBLISH
BEGIN:VEVENT
UID:20e1798d621b85f48e8e3a602bade41f
CATEGORIES:Extended Trip
CREATED:19700101T000000
SUMMARY:Marlborough High country and Valleys. Leatham & Molesworth area
URL;VALUE=URI:https://live.nelsontrampingclub.org.nz/events/1304/marlborough-high-country
 -and-valleys-leatham-molesworth-area?tmpl=component
DESCRIPTION:This trip brings us into typical Marlborough high country. A loop is made a
 round the Leatham, Severn and Saxton valleys and back to the Leatham with 3
  high passes. All huts have 6 bunks\nAccess is via the Leatham Valley road 
 off Wairau road.\nDUE TO WEATHER, PLAN FOR ACCESSING THE LOOP WAS CHANGED 2
 8/12 AND WE WILL NOW DRIVE TO THE MOLESWORTH TO ACCESS THE LOOP INSTEAD OF 
 VIA THE LEATHAM RD New plan below\n29th Dec Day 1. Drive to Molesworth and 
 walk 1.5hrs to Saxton Hut from Acheron road at Saxton river\n30th Dec Day 2
  Top Gordons Hut 1150M. 7-9hrs Moderate climb to Saxton Saddle 1420M\n31st 
 Dec Day 3 - Top Leatham Hut via Bottom Gordons Hut\n1st  Jan Day 4  - Sever
 n Hut 1100M. Steep climb to the Severn Saddle at 1580M and down a scree to 
 Severn River. 6-7hrs\n2nd Jan Day 5 Saxton hut. and out to road. Steep clim
 b to a peak P1764 and down into Saxton river. 8-9Hrs.\nWe will then drive t
 o Cob Cottage campsite and stay the night there.  Back to Nelson Wednesday 
 3rd\n\n This event was imported from: https://live.nelsontrampingclub.org.n
 z/events/1304/marlborough-high-country-and-valleys-leatham-molesworth-area?
 tmpl=component
X-ALT-DESC;FMTTYPE=text/html:<p>This trip brings us into typical Marlborough high country. A loop is mad
 e around the Leatham, Severn and Saxton valleys and back to the Leatham wit
 h 3 high passes. All huts have 6 bunks</p><p>Access is via the Leatham Vall
 ey road off Wairau road.</p><p>DUE TO WEATHER, PLAN FOR ACCESSING THE LOOP 
 WAS CHANGED 28/12 AND WE WILL NOW DRIVE TO THE MOLESWORTH TO ACCESS THE LOO
 P INSTEAD OF VIA THE LEATHAM RD New plan below</p><p>29th Dec Day 1. Drive 
 to Molesworth and walk 1.5hrs to Saxton Hut&nbsp;from Acheron road at Saxto
 n river</p><p>30th Dec Day 2&nbsp;<span>Top Gordons Hut 1150M. 7-9hrs Moder
 ate climb to Saxton Saddle 1420M</span></p><p>31st Dec Day 3 - Top Leatham 
 Hut via Bottom Gordons Hut</p><p>1st&nbsp; Jan Day 4&nbsp; - Severn Hut 110
 0M. Steep climb to the Severn Saddle at 1580M and down a scree to Severn Ri
 ver. 6-7hrs</p><p>2nd Jan Day 5 Saxton hut. and out to road. Steep climb to
  a peak P1764 and down into Saxton river. 8-9Hrs.</p><p>We will then drive 
 to Cob Cottage campsite and stay the night there.&nbsp; Back to Nelson Wedn
 esday 3rd</p><p></p> <a href="https://live.nelsontrampingclub.org.nz/events
 /1304/marlborough-high-country-and-valleys-leatham-molesworth-area?tmpl=com
 ponent">This event was imported from: https://live.nelsontrampingclub.org.n
 z/events/1304/marlborough-high-country-and-valleys-leatham-molesworth-area?
 tmpl=component</a>DTSTAMP:20260420T132756
DTSTART;VALUE=DATE:20231229
DTEND;VALUE=DATE:20240103
SEQUENCE:0
TRANSP:OPAQUE
END:VEVENT
END:VCALENDAR