BEGIN:VCALENDAR
VERSION:2.0
PRODID:-//jEvents 2.0 for Joomla//EN
CALSCALE:GREGORIAN
METHOD:PUBLISH
BEGIN:VEVENT
UID:610d2d836c5833cd3517ee0bf64b604b
CATEGORIES:Day Trip
CREATED:20230711T214842
SUMMARY:Bullock Track, Wooded Peak, CANCELLED
URL;VALUE=URI:https://live.nelsontrampingclub.org.nz/events/1293/bullock-track,-wooded-pe
 ak,-cancelled?tmpl=component
DESCRIPTION:Trip cancelled because Ian's groin injury is not healed yet.\nWhen the Dun 
 Mountain Railway was opened in 1862 then the previous access route fell int
 o disuse.  This was called the Bullock Track and it ran around the north an
 d east sides of Wooded Peak.  After 160 years of disuse there is very littl
 e trace of the Bullock Track left, but I have found some of those traces.\n
 This trip will start from Brook valley and follow the Dun Mountain trail pa
 st Third House and Junction Saddle and then go off-track on the slopes of W
 ooded Peak to follow the parts of Bullock Track that I have found and attem
 pt to find some more and maybe reach Coppermine Saddle.\nThere is no guaran
 tee that we will find any more track or reach any destination, but we will 
 definitely find stinging nettle, bush lawyer, fallen trees and rocky bluffs
 .\n This event was imported from: https://live.nelsontrampingclub.org.nz/ev
 ents/1293/bullock-track,-wooded-peak,-cancelled?tmpl=component
X-ALT-DESC;FMTTYPE=text/html:<p>Trip cancelled because Ian's groin injury is not healed yet.</p><p>When 
 the Dun Mountain Railway was opened in 1862 then the previous access route 
 fell into disuse.&nbsp; This was called the Bullock Track and it ran around
  the north and east sides of Wooded Peak.&nbsp; After 160 years of disuse t
 here is very little trace of the Bullock Track left, but I have found some 
 of those traces.</p><p>This trip will start from Brook valley and follow th
 e Dun Mountain trail past Third House and Junction Saddle and then go off-t
 rack on the slopes of Wooded Peak to follow the parts of Bullock Track that
  I have found and attempt to find some more and maybe reach Coppermine Sadd
 le.</p><p>There is no guarantee that we will find any more track or reach a
 ny destination, but we will definitely find stinging nettle, bush lawyer, f
 allen trees and rocky bluffs.</p> <a href="https://live.nelsontrampingclub.
 org.nz/events/1293/bullock-track,-wooded-peak,-cancelled?tmpl=component">Th
 is event was imported from: https://live.nelsontrampingclub.org.nz/events/1
 293/bullock-track,-wooded-peak,-cancelled?tmpl=component</a>DTSTAMP:20260420T161854
DTSTART;VALUE=DATE:20230917
DTEND;VALUE=DATE:20230918
SEQUENCE:0
TRANSP:OPAQUE
END:VEVENT
END:VCALENDAR