BEGIN:VCALENDAR
VERSION:2.0
PRODID:-//jEvents 2.0 for Joomla//EN
CALSCALE:GREGORIAN
METHOD:PUBLISH
BEGIN:VEVENT
UID:540c89b434c346d92494604074efe15d
CATEGORIES:Extended Trip
CREATED:20230707T224826
SUMMARY:Cupola Hut
URL;VALUE=URI:https://live.nelsontrampingclub.org.nz/events/1290/cupola-hut?tmpl=componen
 t
DESCRIPTION:Current plan is to walk in Friday evening to Lake Head Hut and get to Cupol
 a Hut early the next day. This will allow a more casual approach, give time
  to collect firewood and perhaps explore the Sunday route up to Mt Cupola. 
 If conditions are good, then on Sunday head towards Mt Cupola and walk out.
  I will explore water taxis options for the return.\nI will limit this to t
 he first seven people. However, be prepared to sleep on the floor if other 
 people are in the hut.\nAnyone booking this trip needs good snow skills and
  be competent with ice axe and crampons.\nStay tuned.\n This event was impo
 rted from: https://live.nelsontrampingclub.org.nz/events/1290/cupola-hut?tm
 pl=component
X-ALT-DESC;FMTTYPE=text/html:<p>Current plan is to walk in Friday evening to Lake Head Hut and get to Cu
 pola Hut early the next day. This will allow a more casual approach, give t
 ime to collect firewood and perhaps explore the Sunday route up to Mt Cupol
 a. If conditions are good, then on Sunday head towards Mt Cupola and walk o
 ut. I will explore water taxis options for the return.</p><p>I will limit t
 his to the first seven people. However, be prepared to sleep on the floor i
 f other people are in the hut.</p><p>Anyone booking this trip needs good sn
 ow skills and be competent with ice axe and crampons.</p><p>Stay tuned.</p>
  <a href="https://live.nelsontrampingclub.org.nz/events/1290/cupola-hut?tmp
 l=component">This event was imported from: https://live.nelsontrampingclub.
 org.nz/events/1290/cupola-hut?tmpl=component</a>DTSTAMP:20260420T160056
DTSTART;VALUE=DATE:20230908
DTEND;VALUE=DATE:20230911
SEQUENCE:0
TRANSP:OPAQUE
END:VEVENT
END:VCALENDAR