BEGIN:VCALENDAR
VERSION:2.0
PRODID:-//jEvents 2.0 for Joomla//EN
CALSCALE:GREGORIAN
METHOD:PUBLISH
BEGIN:VEVENT
UID:f05c21658f47f229bbe6a4304b3361df
CATEGORIES:Overnight Trip
CREATED:20230522T100226
SUMMARY:Mt Angelus Summit
URL;VALUE=URI:https://live.nelsontrampingclub.org.nz/events/1279/mt-angelus-summit?tmpl=c
 omponent
DESCRIPTION:Close to the full moon on the 31st Aug. \nFine weather and good snow condit
 ions a must.  We will stay at Angelus Hut of course, so provisionally put t
 his in for a Friday night to avoid the masses. This trip will run anytime A
 ugust/Sept when weather and snow conditions are promo. Happy if you want to
  just go to Angelus Hut but must have confident crampon and ice axe skills 
 please. We will likely travel both ways along the ridge, weather permitting
 .\nFeel free to flick me an Email if you are keen, or register ,and we will
  keep an eye on dates and snow conditions and I can let yoou know what date
 s are looking promising.\nAlso, aside from tramping, if you head up the ski
 field anytime (Can go at a day or so notice), be happy to shout fuel costs 
 and get up on my skis. Please flick me an email and we will try and get a s
 ki group together!\n This event was imported from: https://live.nelsontramp
 ingclub.org.nz/events/1279/mt-angelus-summit?tmpl=component
X-ALT-DESC;FMTTYPE=text/html:<p><em>Close to the full moon on the 31st Aug. </em></p><p><em>Fine weather
  and good snow conditions a must.&nbsp; We will stay at Angelus Hut of cour
 se, so provisionally put this in for a Friday night to avoid the masses. Th
 is trip will run anytime August/Sept when weather and snow conditions are p
 romo. Happy if you want to just go to Angelus Hut but must have confident c
 rampon and ice axe skills please. We will likely travel both ways along the
  ridge, weather permitting.</em></p><p>Feel free to flick me an Email if yo
 u are keen, or register ,and we will keep an eye on dates and snow conditio
 ns and I can let yoou know what dates are looking promising.</p><p>Also, as
 ide from tramping, if you head up the skifield anytime (Can go at a day or 
 so notice), be happy to shout fuel costs and get up on my skis. Please flic
 k me an email and we will try and get a ski group together!</p> <a href="ht
 tps://live.nelsontrampingclub.org.nz/events/1279/mt-angelus-summit?tmpl=com
 ponent">This event was imported from: https://live.nelsontrampingclub.org.n
 z/events/1279/mt-angelus-summit?tmpl=component</a>DTSTAMP:20260420T155942
DTSTART;VALUE=DATE:20230822
DTEND;VALUE=DATE:20230824
SEQUENCE:0
TRANSP:OPAQUE
END:VEVENT
END:VCALENDAR