BEGIN:VCALENDAR
VERSION:2.0
PRODID:-//jEvents 2.0 for Joomla//EN
CALSCALE:GREGORIAN
METHOD:PUBLISH
BEGIN:VEVENT
UID:6e736019c85f17073bdac67d929d0402
CATEGORIES:Day Trip
CREATED:20230507T043404
SUMMARY:Cullen Creek Crossover
URL;VALUE=URI:https://live.nelsontrampingclub.org.nz/events/1270/cullen-creek-crossover?t
 mpl=component
DESCRIPTION:<p>&nbsp;The weather continues to look best on Saturday so I have changed t
 he date to Saturday 3rd&nbsp;</p><p>The plan would be for two cars (one to 
 each end of the Cullen Creek Goldminers Trail - near Linkwater and from Wai
 kakaho Road end, and walk through. Meet for lunch at the"Village Clearing".
  Approx 5 hours walking with around 800 m climb. IF, only one vehicle we wi
 ll do the southern end of the walk as we did the northern end quite recentl
 y.</p> <a href="https://live.nelsontrampingclub.org.nz/events/1270/cullen-c
 reek-crossover?tmpl=component">This event was imported from: https://live.n
 elsontrampingclub.org.nz/events/1270/cullen-creek-crossover?tmpl=component<
 /a>DTSTAMP:20260420T160247
DTSTART;VALUE=DATE:20230603
DTEND;VALUE=DATE:20230604
SEQUENCE:0
TRANSP:OPAQUE
END:VEVENT
END:VCALENDAR