BEGIN:VCALENDAR
VERSION:2.0
PRODID:-//jEvents 2.0 for Joomla//EN
CALSCALE:GREGORIAN
METHOD:PUBLISH
BEGIN:VEVENT
UID:4189c8234207d0906187503f5451b14d
CATEGORIES:Day Trip
CREATED:20230411T023404
SUMMARY:Cable Bay Walkway
URL;VALUE=URI:https://live.nelsontrampingclub.org.nz/events/1257/cable-bay-walkway?tmpl=c
 omponent
DESCRIPTION:Glenduan to Cable Bay and return. Good winter's day walk, can be muddy! \n 
 This event was imported from: https://live.nelsontrampingclub.org.nz/events
 /1257/cable-bay-walkway?tmpl=component
X-ALT-DESC;FMTTYPE=text/html:<p>Glenduan to Cable Bay and return. Good winter's day walk, can be muddy!&
 nbsp;</p> <a href="https://live.nelsontrampingclub.org.nz/events/1257/cable
 -bay-walkway?tmpl=component">This event was imported from: https://live.nel
 sontrampingclub.org.nz/events/1257/cable-bay-walkway?tmpl=component</a>DTSTAMP:20260420T160110
DTSTART;VALUE=DATE:20230709
DTEND;VALUE=DATE:20230710
SEQUENCE:0
TRANSP:OPAQUE
END:VEVENT
END:VCALENDAR